BEGIN:VCALENDAR
VERSION:2.0
PRODID:-//ChamberMaster//Event Calendar 2.0//EN
METHOD:PUBLISH
X-PUBLISHED-TTL:P3D
REFRESH-INTERVAL:P3D
CALSCALE:GREGORIAN
BEGIN:VEVENT
DTSTART;VALUE=DATE:20261007
DTEND;VALUE=DATE:20261016
TRANSP:TRANSPARENT
X-MICROSOFT-CDO-ALLDAYEVENT:TRUE
SUMMARY:2026 International Trip - Scotland
DESCRIPTION:TOUR OVERVIEW\n\nJoin the Salt Lake Chamber for an unforgettable journey through Scotland - a land of legends\, royal heritage and breathtaking landscapes. Your adventure begins in Edinburgh\, where medieval lanes and elegant Georgian architecture set the tone for a rich and immersive experience. From panoramic city views to a warm welcome toast\, you'll settle in quickly and begin connecting with fellow travelers. The days that follow carry you deep into the Highlands\, where you'll come face-to-face with Scotland's iconic Hairy Coos\, explore the powerful history of Culloden Battlefield\, admire engineering marvels like the Falkirk Wheel\, and wander the storied grounds of Stirling Castle. A three-night stay in Inverness gives you time to savor the Highlands at your own pace and includes a visit to fairytale-like Dunrobin Castle.\n\nFrom the cliffside ruins of St. Andrews to the regal halls of Holyroodhouse and the mighty ramparts of Edinburgh Castle\, each day blends discovery\, culture\, and moments of pure delight. Free time invites you to explore\, shop\, dine\, or simply soak in the magic of Scotland's cities and countryside. A festive\, pipe-led farewell dinner caps off the journey in true Scottish fashion. We invite you to join us on this extraordinary nine-day exploration - an inspiring blend of history\, beauty\, camaraderie and unforgettable experiences. Scotland is calling\, and we.'d love to share it with you.\n\n\n\n9-Day Journey\n\n$4799\n\nLand Only \n\n\n\nHighlights:\n\n\n	7 nights hotel accommodation\n	4 nights Edinburgh\n	3 nights Inverness\n	9 meals: breakfast daily\, 1 lunch\, 1 dinner\n	Edinburgh Castle\, Stirling Castle\, Culloden Battlefield\, Cairngorms National Park\, St. Andrews Castle and St. Andrews Links\, Palace of Holyroodhouse\, Hairy Coos\n	Welcome Drink\n	Discovery Program Guide \n\n\n\n\nNORTHERN IRELAND POST-TOUR OPTION\n\nThree nights: $1099 per person \n\nExtend your adventure with a three-night post-trip experience in Northern Ireland\, an inspiring blend of culture\, history\, and sweeping coastal beauty. This optional add-on includes first-class\, city-center accommodations\, daily breakfast\, and seamless airport transfers on group travel days. You'll travel by a scenic 2.5-hour ferry ride from Cairnryan\, Scotland\, to Belfast\, where a guided city tour introduces you to the city's vibrant past and present\, including an in-depth visit to Titanic Belfast. A full-day excursion to the dramatic North Antrim Coast brings you to the legendary Giant's Causeway\, one of Northern Ireland's most iconic natural wonders. With free time built in to explore Belfast at your own pace\, this post-trip option offers a wonderful balance of discovery and relaxation\, an uplifting way to complete your journey.
X-ALT-DESC;FMTTYPE=text/html:<p><br />\n<span style="font-size:14px\;"><strong><span style="font-size:16px\;">TOUR OVERVIEW</span></strong></span><br />\nJoin the Salt Lake Chamber for an unforgettable journey through Scotland - a&nbsp\;land of legends\, royal heritage&nbsp\;and breathtaking landscapes. Your adventure begins in Edinburgh\, where medieval lanes and elegant Georgian architecture set the tone for a rich and immersive experience. From panoramic city views to a warm welcome toast\, you&#39\;ll settle in quickly and begin connecting with fellow travelers. The days that follow carry you deep into the Highlands\, where you&#39\;ll come face-to-face with Scotland&#39\;s iconic Hairy Coos\, explore the powerful history of Culloden Battlefield\, admire engineering marvels like the Falkirk Wheel\, and wander the storied grounds of Stirling Castle. A three-night stay in Inverness gives you time to savor the Highlands at your own pace and includes a&nbsp\;visit to fairytale-like Dunrobin Castle.</p>\n\n<p>From the cliffside ruins of St. Andrews to the regal halls of Holyroodhouse and the mighty ramparts of Edinburgh Castle\, each day blends discovery\, culture\, and moments of pure delight. Free time invites you to explore\, shop\, dine\, or simply soak in the magic of Scotland&#39\;s cities and countryside. A festive\, pipe-led farewell dinner caps off the journey in true Scottish fashion. We invite you to join us on this extraordinary nine-day exploration - an inspiring blend of history\, beauty\, camaraderie and unforgettable experiences. Scotland is calling\, and we.&#39\;d love to share it with you.<br />\n<br />\n<strong>9-Day Journey</strong><br />\n<em>$4799<br />\nLand Only&nbsp\;</em><br />\n<br />\n<strong>Highlights:</strong></p>\n\n<ul>\n	<li>7 nights hotel accommodation</li>\n	<li>4 nights Edinburgh</li>\n	<li>3 nights Inverness</li>\n	<li>9 meals: breakfast daily\, 1 lunch\, 1 dinner</li>\n	<li>Edinburgh Castle\, Stirling Castle\, Culloden Battlefield\, Cairngorms National Park\, St. Andrews Castle and St. Andrews Links\, Palace of Holyroodhouse\, Hairy Coos</li>\n	<li>Welcome Drink</li>\n	<li>Discovery Program Guide&nbsp\;</li>\n</ul>\n\n<p><br />\n<strong><span style="font-size:16px\;">NORTHERN&nbsp\;IRELAND POST-TOUR OPTION<br />\nThree nights: $1099 per person&nbsp\;</span></strong><br />\nExtend your adventure with a three-night post-trip experience in Northern Ireland\, an&nbsp\;inspiring blend of culture\, history\, and sweeping coastal beauty. This optional add-on includes first-class\, city-center accommodations\, daily breakfast\, and seamless airport transfers on group travel days. You&#39\;ll travel by a scenic 2.5-hour ferry ride from Cairnryan\, Scotland\,&nbsp\;to Belfast\, where a guided city tour introduces you to the city&#39\;s vibrant past and present\, including an in-depth visit to Titanic Belfast. A full-day excursion to the dramatic North Antrim Coast brings you to the legendary Giant&#39\;s Causeway\, one of Northern Ireland&#39\;s most iconic natural wonders. With free time built in to explore Belfast at your own pace\, this post-trip option offers a wonderful balance of discovery and relaxation\, an uplifting way to complete your journey.</p>\n
LOCATION:
UID:e.2428.15923
SEQUENCE:3
DTSTAMP:20260419T233140Z
URL:https://business.slchamber.com/events/details/2026-international-trip-scotland-15923
END:VEVENT

END:VCALENDAR
