BEGIN:VCALENDAR
VERSION:2.0
PRODID:-//ChamberMaster//Event Calendar 2.0//EN
METHOD:PUBLISH
X-PUBLISHED-TTL:P3D
REFRESH-INTERVAL:P3D
CALSCALE:GREGORIAN
BEGIN:VEVENT
DTSTART:20260423T140000Z
DTEND:20260423T223000Z
X-MICROSOFT-CDO-ALLDAYEVENT:FALSE
SUMMARY:2026 Utah Worksite Wellness Annual Conference
DESCRIPTION:The Utah Worksite Wellness Council is proud to announce its 2026 annual conference theme. The Wellness Shift is a transformative\, solutions-oriented conference specifically designed for HR and wellness professionals committed to improving employee well-being in the workplace. Centered around the pillars of culture\, care\, and cost savings\, this event provides expert-led sessions\, actionable strategies\, and opportunities for meaningful peer collaboration. Attendees will explore the essential dimensions of wellness\, all while fostering a culture of care and effectively managing and reducing healthcare costs.
X-ALT-DESC;FMTTYPE=text/html:<div style="margin-left:0px">\n<p><span style="font-size:14px\;"><span style="font-family:arial\;"><span style="color: rgb(34\, 34\, 34)\;">The Utah Worksite Wellness Council is proud to announce its 2026 annual conference theme. The Wellness Shift is a transformative\, solutions-oriented conference specifically designed for HR and wellness professionals committed to improving employee well-being in the workplace. Centered around the pillars of culture\, care\, and cost savings\, this event provides expert-led sessions\, actionable strategies\, and opportunities for meaningful peer collaboration. Attendees will explore the essential dimensions of wellness\, all while fostering a culture of care and effectively managing and reducing healthcare costs.</span></span></span></p>\n</div>\n\n<div style="margin-left:0px">\n<p>&nbsp\;</p>\n</div>\n
LOCATION:Zion's Technology Center 7860 S. Bingham Jct Blvd.\, Midvale\, Utah\, 84047\, United States
UID:e.2428.16042
SEQUENCE:3
DTSTAMP:20260422T083808Z
URL:https://business.slchamber.com/events/details/2026-utah-worksite-wellness-annual-conference-16042
END:VEVENT

END:VCALENDAR
