BEGIN:VCALENDAR
VERSION:2.0
PRODID:-//ChamberMaster//Event Calendar 2.0//EN
METHOD:PUBLISH
X-PUBLISHED-TTL:P3D
REFRESH-INTERVAL:P3D
CALSCALE:GREGORIAN
BEGIN:VEVENT
DTSTART:20260725T010000Z
DTEND:20260725T040000Z
X-MICROSOFT-CDO-ALLDAYEVENT:FALSE
SUMMARY:38 Special
DESCRIPTION:Celebrating 50 years together\, 38 Special continues to bring their explosive\, guitar-driven Southern rock to audiences across the country. With more than 20 million albums sold and a catalog stacked with hits like "Hold On Loosely\," "Caught Up in You\," "If I'd Been the One\," and "Second Chance\," 38 Special remains one of the most enduring forces in classic rock.\n\n\n\nFormed in 1974\, the band built its legacy on relentless touring and an unmistakable blend of muscle\, melody\, and hook-heavy anthems that defined a generation of FM radio. Five decades later\, they're still firing on all cylinders playing over 100 cities a year and delivering the high-energy live show fans have loved for half a century.\n\n\n\nNow entering their sixth decade\, 38 Special returns with Milestone their first studio album in more than 20 years. Fueled by powerful guitars\, anthemic choruses\, and a modern edge\, the band bridges past and present while staying true to their rock and roll roots.\n\n\n\nDon't miss your chance to experience a legendary band that "doesn't slow down" and still brings a full-throttle show night after night.\n\n\n\nJoin us for an unforgettable night of true American rock and roll.
X-ALT-DESC;FMTTYPE=text/html:Celebrating 50 years together\, 38 Special continues to bring their explosive\, guitar-driven Southern rock to audiences across the country. With more than 20 million albums sold and a catalog stacked with hits like &ldquo\;Hold On Loosely\,&rdquo\; &ldquo\;Caught Up in You\,&rdquo\; &ldquo\;If I&rsquo\;d Been the One\,&rdquo\; and &ldquo\;Second Chance\,&rdquo\; 38 Special remains one of the most enduring forces in classic rock.<br />\n<br />\nFormed in 1974\, the band built its legacy on relentless touring and an unmistakable blend of muscle\, melody\, and hook-heavy anthems that defined a generation of FM radio. Five decades later\, they&rsquo\;re still firing on all cylinders&mdash\;playing over 100 cities a year and delivering the high-energy live show fans have loved for half a century.<br />\n<br />\nNow entering their sixth decade\, 38 Special returns with Milestone&mdash\;their first studio album in more than 20 years. Fueled by powerful guitars\, anthemic choruses\, and a modern edge\, the band bridges past and present while staying true to their rock and roll roots.<br />\n<br />\nDon&rsquo\;t miss your chance to experience a legendary band that &ldquo\;doesn&rsquo\;t slow down&rdquo\; and still brings a full-throttle show night after night.<br />\n<br />\nJoin us for an unforgettable night of true American rock and roll.
LOCATION:Canyons Village 4000 Canyons Resort Dr Park City\, UT 84098
UID:e.2428.16021
SEQUENCE:3
DTSTAMP:20260422T234139Z
URL:https://business.slchamber.com/events/details/38-special-16021
END:VEVENT

END:VCALENDAR
