BEGIN:VCALENDAR
VERSION:2.0
PRODID:-//ChamberMaster//Event Calendar 2.0//EN
METHOD:PUBLISH
X-PUBLISHED-TTL:P3D
REFRESH-INTERVAL:P3D
CALSCALE:GREGORIAN
BEGIN:VEVENT
DTSTART:20260324T153000Z
DTEND:20260324T163000Z
X-MICROSOFT-CDO-ALLDAYEVENT:FALSE
SUMMARY:Banking on Women Information Session
DESCRIPTION:Get excited to learn more about an entrepreneurship program for women in Utah!\n\n\n\n\n\nIf you are a woman in Utah looking to start or grow your own small business\, this is the program for you!\n\n \n\nCurious about applying for Banking on Women? Register now for our information session on this amazing entrepreneurship program for women in Utah\, happening Tues March 24th at 9:30am. Learn what makes a great application\, get your questions answered\, and get ready to take the next step forward in your life!\n\nSince 2010\, Banking on Women  has empowered aspiring female small business owners in Utah with the necessary skills and knowledge to thrive in owning their own business. The comprehensive curriculum crafted by the team at Westminster University covers fundamental aspects of managing your business\, perfecting a business plan\, financial planning\, marketing\, and strategic decision-making.
X-ALT-DESC;FMTTYPE=text/html:<div class="StructuredModuleRenderer_structuredContent__k7mNB StructuredModuleRenderer_text__GaXOv" data-testid="text-content" style="box-sizing: border-box\; padding: 0px\; margin: 0px\; color: rgb(88\, 81\, 99)\; align-self: stretch\; overflow: hidden\; text-overflow: ellipsis\; line-height: 23.94px\; letter-spacing: 0.1px\; font-size: 18px\; font-family: &quot\;Neue Plak&quot\;\, -apple-system\, BlinkMacSystemFont\, Roboto\, &quot\;Helvetica Neue&quot\;\, Helvetica\, Tahoma\, Arial\, sans-serif\;">\n<div style="box-sizing: border-box\; padding: 0px\; margin: 0px\;">\n<p style="box-sizing: border-box\; padding: 0px 0px 12px\; margin: 0px\;">Get excited to learn more about an entrepreneurship program for women in Utah!</p>\n</div>\n</div>\n\n<div class="StructuredModuleRenderer_structuredContent__k7mNB StructuredModuleRenderer_text__GaXOv" data-testid="text-content" style="box-sizing: border-box\; padding: 0px\; margin: 0px\; color: rgb(88\, 81\, 99)\; align-self: stretch\; overflow: hidden\; text-overflow: ellipsis\; line-height: 23.94px\; letter-spacing: 0.1px\; font-size: 18px\; font-family: &quot\;Neue Plak&quot\;\, -apple-system\, BlinkMacSystemFont\, Roboto\, &quot\;Helvetica Neue&quot\;\, Helvetica\, Tahoma\, Arial\, sans-serif\;">\n<div style="box-sizing: border-box\; padding: 0px\; margin: 0px\;">\n<h3 style="box-sizing: border-box\; padding: 0px\; margin: 0px\; font-weight: 600\; font-size: 20px\;"><span style="box-sizing: border-box\; padding: 0px\; margin: 0px\;">If you are a woman in Utah looking to start or grow your own small business\, this is the program for you!</span></h3>\n\n<p style="box-sizing: border-box\; padding: 0px 0px 12px\; margin: 12px 0px 0px\;">&nbsp\;</p>\n\n<p style="box-sizing: border-box\; padding: 0px 0px 12px\; margin: 12px 0px 0px\;">Curious about applying for Banking on Women? Register now for our information session on this amazing entrepreneurship program for women in Utah\, happening Tues March 24th at 9:30am. Learn what makes a great application\, get your questions answered\, and get ready to take the next step forward in your life!</p>\n\n<p style="box-sizing: border-box\; padding: 0px 0px 12px\; margin: 12px 0px 0px\;">Since 2010\, Banking on Women&trade\; has empowered aspiring female small business owners in Utah with the necessary skills and knowledge to thrive in owning their own business. The comprehensive curriculum crafted by the team at Westminster University covers fundamental aspects of managing your business\, perfecting a business plan\, financial planning\, marketing\, and strategic decision-making.</p>\n</div>\n</div>\n
LOCATION:Virtual
UID:e.2428.16053
SEQUENCE:3
DTSTAMP:20260424T135417Z
URL:https://business.slchamber.com/events/details/banking-on-women-information-session-16053
END:VEVENT

END:VCALENDAR
