BEGIN:VCALENDAR
VERSION:2.0
PRODID:-//ChamberMaster//Event Calendar 2.0//EN
METHOD:PUBLISH
X-PUBLISHED-TTL:P3D
REFRESH-INTERVAL:P3D
CALSCALE:GREGORIAN
BEGIN:VEVENT
DTSTART:20260325T140000Z
DTEND:20260325T230000Z
X-MICROSOFT-CDO-ALLDAYEVENT:FALSE
SUMMARY:Build Your Custom A.I. Business Assistant with Doug Brockbank
DESCRIPTION:This full-day\, hands-on workshop shows small business owners how to turn AI into a practical\, powerful business assistant. Participants will learn how to use AI tools specifically ChatGPT to save time\, improve decisions\, and streamline daily operations.\n\n\n\nBy the end of the day\, attendees will have built a Custom AI Business Assistant tailored to their business\, and will know exactly how to use it to work smarter\, faster\, and more competitively.\n\n\n\nWhat You'll Learn:\n\nAI Basics for Small Business\n\nUnderstand what AI really is\, how small businesses are using it today\, and where it delivers the biggest return.\n\nAI Tools That Actually Matter\n\nExplore leading AI platforms and learn which tools make sense for different business needs and budgets.\n\nHow Custom AI Assistants Work\n\nLearn how tools like ChatGPT can be customized into role-based business assistants that think and respond like your team.\n\nBuild Your Own AI Business Assistant\n\nFollow a guided\, step-by-step process to create a custom AI assistant designed specifically for your business.\n\nPut AI to Work Across Your Business\n\nApply your assistant to marketing\, finance\, operations\, sales\, and strategy to improve efficiency and decision-making.\n\n\n\nInvestment: $59.\n\n\n\nPARTICIPATION will require that you subscribe to ChatGPT Plus. Please create or upgrade your account to "Plus" before attending on March 25th. (This level is the $20 per month plan).\n\n\n\n**Breakfast provided**\n\n\n\n***Lunch is on your own\; many restaurants are nearby***\n\nRegister here:
X-ALT-DESC;FMTTYPE=text/html:<h2><span style="background-color:rgb(255\, 255\, 255)\; color:rgb(119\, 119\, 119)\; font-family:open sans\,sans-serif\; font-size:16px">This full-day\, hands-on workshop shows small business owners how to turn AI into a practical\, powerful business assistant. Participants will learn how to use AI tools&mdash\;specifically ChatGPT&mdash\;to save time\, improve decisions\, and streamline daily operations.<br />\n<br />\nBy the end of the day\, attendees will have built a Custom AI Business Assistant tailored to their business\, and will know exactly how to use it to work smarter\, faster\, and more competitively.<br />\n<br />\n<strong>What You&rsquo\;ll Learn:</strong><br />\n<strong>AI Basics for Small Business</strong><br />\nUnderstand what AI really is\, how small businesses are using it today\, and where it delivers the biggest return.<br />\n<strong>AI Tools That Actually Matter</strong><br />\nExplore leading AI platforms and learn which tools make sense for different business needs and budgets.<br />\n<strong>How Custom AI Assistants Work</strong><br />\nLearn how tools like ChatGPT can be customized into role-based business assistants that think and respond like your team.<br />\n<strong>Build Your Own AI Business Assistant</strong><br />\nFollow a guided\, step-by-step process to create a custom AI assistant designed specifically for your business.<br />\n<strong>Put AI to Work Across Your Business</strong><br />\nApply your assistant to marketing\, finance\, operations\, sales\, and strategy to improve efficiency and decision-making.<br />\n<br />\nInvestment: $59.<br />\n<br />\n<strong>PARTICIPATION will require that you subscribe to ChatGPT Plus. Please create or upgrade your account to &quot\;Plus&quot\; before attending on March 25th. (This level is the $20 per month plan).</strong><br />\n<br />\n**Breakfast provided**<br />\n<br />\n***Lunch is on your own\; many restaurants are nearby***</span></h2>\n\n<div><a href="https://epay.slcc.edu:443/C20011_ustores/web/product_detail.jsp?PRODUCTID=3393&amp\;SINGLESTORE=true"><span style="font-size:14px"><strong>Register here:</strong></span></a></div>\n
LOCATION:Salt Lake Community College Salt Lake Small Business Development Center 9690 South 300 West Larry H Miller Campus Miller Corporate Partnership Center Building # 5\, Room 102 Sandy\, UT 84070
UID:e.2428.16040
SEQUENCE:3
DTSTAMP:20260419T124854Z
URL:https://business.slchamber.com/events/details/build-your-custom-a-i-business-assistant-with-doug-brockbank-16040
END:VEVENT

END:VCALENDAR
