BEGIN:VCALENDAR
VERSION:2.0
PRODID:-//ChamberMaster//Event Calendar 2.0//EN
METHOD:PUBLISH
X-PUBLISHED-TTL:P3D
REFRESH-INTERVAL:P3D
CALSCALE:GREGORIAN
BEGIN:VEVENT
DTSTART:20260319T170000Z
DTEND:20260319T190000Z
X-MICROSOFT-CDO-ALLDAYEVENT:FALSE
SUMMARY:Financial Wellness In the Workplace
DESCRIPTION:Today's employees need more support than ever. Top financial and retirement concerns include:\n\n\n	Managing day-to-day finances and debt (including credit card\, medical\, and student loan burdens)\n	Building emergency savings with over half of Americans unable to cover a $1\,000 unexpected expense\n	Understanding and maximizing retirement plans (contribution strategies\, employer match\, income planning\, investments\, and tax strategies)\n	Long-term financial planning\, including preparing for healthcare expenses and longevity risk\n	Improving financial literacy and confidence\, particularly among early-career and underserved employee groups\n\n\n\n\nBy addressing these critical needs\, you can create a healthier\, more productive\, and more engaged workforce one that feels supported not only at work\, but in life.\n\n\n\nTarget Participants: HR Professionals\, Benefits Executives\, CHROs\, CFOs\, Benefit Consultants\n\n\n\nAgenda:\n\n11:00   11:30 AM: Check in\, Mingle\, Lunch\n\n11:30   12:30 PM: Presentation and Roundtable: Improving Financial Wellness & Retirement Readiness in the Workplace\n\n12:30- 1:00 PM: Group Breakouts/Activity
X-ALT-DESC;FMTTYPE=text/html:<div style="margin-left:0px">\n<p><span style="font-size:16px\;"><span style="font-family:arial\;"><strong>Today&rsquo\;s employees need more support than ever. Top financial and retirement concerns include:</strong></span></span></p>\n\n<ul>\n	<li style="margin:0px 0px 0px 15px\;"><span style="font-size:16px\;"><span style="font-family:arial\;"><strong>Managing day-to-day finances and debt</strong>&nbsp\;(including credit card\, medical\, and student loan burdens)</span></span></li>\n	<li style="margin:0px 0px 0px 15px\;"><span style="font-size:16px\;"><span style="font-family:arial\;"><strong>Building emergency savings</strong>&mdash\;with over half of Americans unable to cover a $1\,000 unexpected expense</span></span></li>\n	<li style="margin:0px 0px 0px 15px\;"><span style="font-size:16px\;"><span style="font-family:arial\;"><strong>Understanding and maximizing retirement plans</strong>&nbsp\;(contribution strategies\, employer match\, income planning\, investments\, and tax strategies)</span></span></li>\n	<li style="margin:0px 0px 0px 15px\;"><span style="font-size:16px\;"><span style="font-family:arial\;"><strong>Long-term financial planning</strong>\, including preparing for healthcare expenses and longevity risk</span></span></li>\n	<li style="margin:0px 0px 0px 15px\;"><span style="font-size:16px\;"><span style="font-family:arial\;"><strong>Improving financial literacy and confidence</strong>\, particularly among early-career and underserved employee groups</span></span></li>\n</ul>\n</div>\n\n<div style="margin-left:0px">\n<p><span style="font-size:16px\;"><span style="font-family:arial\;"><span style="color: rgb(0\, 0\, 0)\;">By addressing these critical needs\, you can create a healthier\, more productive\, and more engaged workforce&mdash\;one that feels supported not only at work\, but in life.</span><br />\n<br />\n<strong><span style="color: rgb(0\, 0\, 0)\;"><strong>Target Participants: HR Professionals\, Benefits Executives\, CHROs\, CFOs\, Benefit Consultants</strong><br />\n<br />\n<strong>Agenda:</strong></span></strong><br />\n<span style="color: rgb(0\, 0\, 0)\;">11:00 &ndash\; 11:30 AM: Check in\, Mingle\, Lunch<br />\n11:30 &ndash\; 12:30 PM: Presentation and Roundtable:&nbsp\;Improving Financial Wellness &amp\; Retirement Readiness in the Workplace<br />\n12:30- 1:00 PM: Group Breakouts/Activity</span></span></span></p>\n</div>\n
LOCATION:11925 South 700 East\, Draper\, Utah\, 84020
UID:e.2428.16041
SEQUENCE:3
DTSTAMP:20260419T124801Z
URL:https://business.slchamber.com/events/details/financial-wellness-in-the-workplace-16041
END:VEVENT

END:VCALENDAR
