BEGIN:VCALENDAR
VERSION:2.0
PRODID:-//ChamberMaster//Event Calendar 2.0//EN
METHOD:PUBLISH
X-PUBLISHED-TTL:P3D
REFRESH-INTERVAL:P3D
CALSCALE:GREGORIAN
BEGIN:VEVENT
DTSTART:20251119T013000Z
DTEND:20251119T030000Z
X-MICROSOFT-CDO-ALLDAYEVENT:FALSE
SUMMARY:Gift of Giving Open House
DESCRIPTION:Celebrate giving back with the Club and Feed U Pantry at our Gift of Giving Open House good food\, great company\, lasting impact.\nJoin us for the Gift of Giving Open House\, a night to connect with others\, celebrate generosity\, and give back to the community.\n\nDuring the event\, you can join the Ken Garff University Club with a special $50 initiation fee when you make a donation to the Feed U Pantry. It's a meaningful way to support a great cause while becoming part of a welcoming\, purpose-driven community.\n\n \n\nWhat to expect:\n\n  Appetizers & Light Bites\n\n  Charge Bar\n\n   Guest Speakers\n\n   Club Tours & Networking Opportunities\n\n \n\nThis social-style open house is designed for meaningful connections in a relaxed\, welcoming setting. Whether you're interested in supporting a cause\, meeting like-minded professionals\, or enjoying a great evening out\, the Gift of Giving Open House is a night to remember.
X-ALT-DESC;FMTTYPE=text/html:<span style="color: rgb(88\, 81\, 99)\; font-family: &quot\;Neue Plak&quot\;\; font-size: 18px\; letter-spacing: 0.1px\;">Celebrate giving back with the Club and Feed U Pantry at our Gift of Giving Open House&mdash\;good food\, great company\, lasting impact.</span>\n<p style="margin: 12px 0px\; padding: 0px\; box-sizing: border-box\; color: rgb(88\, 81\, 99)\; font-size: 16px\; font-family: &quot\;Neue Plak&quot\;\, -apple-system\, BlinkMacSystemFont\, Roboto\, &quot\;Helvetica Neue&quot\;\, Helvetica\, Tahoma\, Arial\, sans-serif\;">Join us for the&nbsp\;<span style="font-weight: 600\; box-sizing: border-box\;">Gift of Giving Open House</span>\, a night to connect with others\, celebrate generosity\, and give back to the community.</p>\n\n<p style="margin: 12px 0px\; padding: 0px\; box-sizing: border-box\; color: rgb(88\, 81\, 99)\; font-size: 16px\; font-family: &quot\;Neue Plak&quot\;\, -apple-system\, BlinkMacSystemFont\, Roboto\, &quot\;Helvetica Neue&quot\;\, Helvetica\, Tahoma\, Arial\, sans-serif\;">During the event\, you can&nbsp\;<span style="font-weight: 600\; box-sizing: border-box\;">join the Ken Garff University Club</span>&nbsp\;with a special $50 initiation fee when you make a donation to the&nbsp\;<span style="font-weight: 600\; box-sizing: border-box\;">Feed U Pantry</span>. It&rsquo\;s a meaningful way to support a great cause while becoming part of a welcoming\, purpose-driven community.</p>\n\n<p style="margin: 12px 0px\; padding: 0px\; box-sizing: border-box\; color: rgb(88\, 81\, 99)\; font-size: 16px\; font-family: &quot\;Neue Plak&quot\;\, -apple-system\, BlinkMacSystemFont\, Roboto\, &quot\;Helvetica Neue&quot\;\, Helvetica\, Tahoma\, Arial\, sans-serif\;">&nbsp\;</p>\n\n<p style="margin: 12px 0px\; padding: 0px\; box-sizing: border-box\; color: rgb(88\, 81\, 99)\; font-size: 16px\; font-family: &quot\;Neue Plak&quot\;\, -apple-system\, BlinkMacSystemFont\, Roboto\, &quot\;Helvetica Neue&quot\;\, Helvetica\, Tahoma\, Arial\, sans-serif\;"><span style="font-weight: 600\; box-sizing: border-box\;">What to expect:</span><br style="box-sizing: border-box\;" />\n&#10024\; Appetizers &amp\; Light Bites<br style="box-sizing: border-box\;" />\n&#129380\; Charge Bar<br style="box-sizing: border-box\;" />\n&#127897\;&#65039\; Guest Speakers<br style="box-sizing: border-box\;" />\n&#127967\;&#65039\; Club Tours &amp\; Networking Opportunities</p>\n\n<p style="margin: 12px 0px\; padding: 0px\; box-sizing: border-box\; color: rgb(88\, 81\, 99)\; font-size: 16px\; font-family: &quot\;Neue Plak&quot\;\, -apple-system\, BlinkMacSystemFont\, Roboto\, &quot\;Helvetica Neue&quot\;\, Helvetica\, Tahoma\, Arial\, sans-serif\;">&nbsp\;</p>\n\n<p style="margin: 12px 0px\; padding: 0px\; box-sizing: border-box\; color: rgb(88\, 81\, 99)\; font-size: 16px\; font-family: &quot\;Neue Plak&quot\;\, -apple-system\, BlinkMacSystemFont\, Roboto\, &quot\;Helvetica Neue&quot\;\, Helvetica\, Tahoma\, Arial\, sans-serif\;">This&nbsp\;<span style="font-weight: 600\; box-sizing: border-box\;">social-style open house</span>&nbsp\;is designed for meaningful connections in a relaxed\, welcoming setting. Whether you&rsquo\;re interested in supporting a cause\, meeting like-minded professionals\, or enjoying a great evening out\, the Gift of Giving Open House is&nbsp\;<span style="font-weight: 600\; box-sizing: border-box\;">a night to remember</span>.</p>\n
LOCATION:Location: Suite Lounge\, Rice-Eccles Stadium 451 1400 East Salt Lake City\, UT 84112
UID:e.2428.15891
SEQUENCE:3
DTSTAMP:20260424T123027Z
URL:https://business.slchamber.com/events/details/gift-of-giving-open-house-15891
END:VEVENT

END:VCALENDAR
