BEGIN:VCALENDAR
VERSION:2.0
PRODID:-//ChamberMaster//Event Calendar 2.0//EN
METHOD:PUBLISH
X-PUBLISHED-TTL:P3D
REFRESH-INTERVAL:P3D
CALSCALE:GREGORIAN
BEGIN:VEVENT
DTSTART:20260430T150000Z
DTEND:20260430T160000Z
X-MICROSOFT-CDO-ALLDAYEVENT:FALSE
SUMMARY:Global Business Briefing
DESCRIPTION:Hosted by the Salt Lake Chamber and World Trade Center Utah \n\n\n\nGlobal dynamics are shifting quickly\, and Utah companies need clear\, actionable insight. The Salt Lake Chamber and World Trade Center Utah are partnering to host a quarterly Global Business Briefing to help business leaders strengthen market access\, evaluate international partnerships\, and stay competitive in an unpredictable environment. \n\n\n\nOur April 30 event highlights early insights from WTC Utah's recent Germany & Switzerland trade mission\, with a look at Europe's economic trends\, workforce approaches\, and what they mean for companies managing global production\, sourcing\, or sales.  \n\n\n\nFeatured speakers \n\n\n\n\n	\n	Jonas Brunschwig\, consul general of Switzerland\, sharing a market outlook on Switzerland and the broader European environment\, with perspective on what Utah companies should be watching now. \n	\n\n\n\n\n\n	\n	Martin Ritter\, CEO of Stadler US\, sharing how a Switzerland-based manufacturer is building talent and operations in Utah\, including insights on apprenticeship models. \n	\n\n\n\n\nWe'll also touch on recent tariff developments and how tools like the Foreign-Trade Zone can help importers reduce costs and manage risk. \n\n\n\nEach briefing convenes together industry\, diplomatic\, and policy perspectives focused on practical guidance you can use now. If your work involves global sourcing\, customers\, investment\, or supply chain strategy\, this conversation will help you navigate what's next with confidence. \n\n\n\nComing up: \n\n\n\nJuly 30   Australia \n\n\n\nOctober 29   Mexico
X-ALT-DESC;FMTTYPE=text/html:<div>\n<div>\n<p paraeid="{b64adede-ea8c-4069-b57d-f75ddfd7d87d}{23}" paraid="1996884489"><br />\nHosted by the Salt Lake Chamber and World Trade Center Utah&nbsp\;</p>\n</div>\n\n<div>\n<p paraeid="{b64adede-ea8c-4069-b57d-f75ddfd7d87d}{33}" paraid="1883094024">Global dynamics are shifting quickly\, and Utah companies need clear\, actionable insight. The&nbsp\;<a href="https://slchamber.com/" rel="noreferrer noopener" target="_blank">Salt Lake Chamber</a>&nbsp\;and&nbsp\;<a href="https://www.wtcutah.com/" rel="noreferrer noopener" target="_blank">World Trade Center Utah</a>&nbsp\;are partnering to host a quarterly&#8239\;Global Business Briefing&#8239\;to help business leaders strengthen market access\, evaluate international partnerships\, and stay competitive in an unpredictable environment.&nbsp\;</p>\n</div>\n\n<div>\n<p paraeid="{b64adede-ea8c-4069-b57d-f75ddfd7d87d}{59}" paraid="191065166">Our April 30 event&nbsp\;highlights&nbsp\;early insights from&nbsp\;WTC&nbsp\;Utah&rsquo\;s recent&#8239\;<a href="https://www.wtcutah.com/tradeevents/switzerlandgermany-business-trip-2026" rel="noreferrer noopener" target="_blank">Germany &amp\; Switzerland trade mission</a>\, with a look at Europe&rsquo\;s economic trends\, workforce approaches\,&nbsp\;and what they mean for companies managing global production\, sourcing\, or sales.&nbsp\;&nbsp\;</p>\n</div>\n\n<div>\n<p paraeid="{b64adede-ea8c-4069-b57d-f75ddfd7d87d}{89}" paraid="97110835">Featured speakers&nbsp\;</p>\n</div>\n\n<div>\n<ul role="list">\n	<li aria-setsize="-1" data-aria-level="1" data-aria-posinset="1" data-font="Symbol" data-leveltext="&#61623\;" data-list-defn-props="{&quot\;335552541&quot\;:1\,&quot\;335559685&quot\;:720\,&quot\;335559991&quot\;:360\,&quot\;469769226&quot\;:&quot\;Symbol&quot\;\,&quot\;469769242&quot\;:[8226]\,&quot\;469777803&quot\;:&quot\;left&quot\;\,&quot\;469777804&quot\;:&quot\;&#61623\;&quot\;\,&quot\;469777815&quot\;:&quot\;hybridMultilevel&quot\;}" data-listid="1" role="listitem">\n	<p paraeid="{b64adede-ea8c-4069-b57d-f75ddfd7d87d}{100}" paraid="937957150"><a href="https://www.eda.admin.ch/countries/usa/en/home/representations/embassy-washington/consulate-sf/welcome.html" rel="noreferrer noopener" target="_blank">Jonas Brunschwig</a>\, consul general of Switzerland\, sharing a market outlook on Switzerland and the broader European environment\, with perspective on what Utah companies should be watching now.&nbsp\;</p>\n	</li>\n</ul>\n</div>\n\n<div>\n<ul role="list">\n	<li aria-setsize="-1" data-aria-level="1" data-aria-posinset="2" data-font="Symbol" data-leveltext="&#61623\;" data-list-defn-props="{&quot\;335552541&quot\;:1\,&quot\;335559685&quot\;:720\,&quot\;335559991&quot\;:360\,&quot\;469769226&quot\;:&quot\;Symbol&quot\;\,&quot\;469769242&quot\;:[8226]\,&quot\;469777803&quot\;:&quot\;left&quot\;\,&quot\;469777804&quot\;:&quot\;&#61623\;&quot\;\,&quot\;469777815&quot\;:&quot\;hybridMultilevel&quot\;}" data-listid="1" role="listitem">\n	<p paraeid="{b64adede-ea8c-4069-b57d-f75ddfd7d87d}{112}" paraid="1852105991"><a href="https://www.linkedin.com/in/martin-ritter-74303769/" rel="noreferrer noopener" target="_blank">Martin Ritter</a>\, CEO of Stadler US\,&nbsp\;sharing how a Switzerland-based manufacturer is building talent and operations in Utah\, including insights on apprenticeship models.&nbsp\;</p>\n	</li>\n</ul>\n</div>\n\n<div>\n<p paraeid="{b64adede-ea8c-4069-b57d-f75ddfd7d87d}{129}" paraid="455261694">We&rsquo\;ll&nbsp\;also touch on recent tariff developments and how tools like&#8239\;the&nbsp\;<a href="https://www.wtcutah.com/foreign-trade-zone" rel="noreferrer noopener" target="_blank">Foreign-Trade Zone</a>&nbsp\;can help importers&nbsp\;reduce&nbsp\;costs and&nbsp\;manage&nbsp\;risk.&nbsp\;</p>\n</div>\n\n<div>\n<p paraeid="{b64adede-ea8c-4069-b57d-f75ddfd7d87d}{155}" paraid="2124755788">Each briefing&nbsp\;convenes&nbsp\;together industry\, diplomatic\, and policy perspectives focused on practical guidance you can use now. If your work involves global sourcing\, customers\, investment\, or supply chain strategy\, this conversation will help you navigate&nbsp\;what&rsquo\;s&nbsp\;next with confidence.&nbsp\;</p>\n</div>\n\n<div>\n<p paraeid="{b64adede-ea8c-4069-b57d-f75ddfd7d87d}{167}" paraid="109067585">Coming up:&nbsp\;</p>\n</div>\n\n<div>\n<p paraeid="{b64adede-ea8c-4069-b57d-f75ddfd7d87d}{177}" paraid="942247681"><a href="https://business.slchamber.com/events/details/global-business-briefing-15978" rel="noreferrer noopener" target="_blank">July 30</a>&nbsp\;&mdash\; Australia&nbsp\;</p>\n</div>\n\n<div>\n<p paraeid="{b64adede-ea8c-4069-b57d-f75ddfd7d87d}{189}" paraid="906188148"><a href="https://business.slchamber.com/events/details/global-business-briefing-15979" rel="noreferrer noopener" target="_blank">October 29</a>&nbsp\;&mdash\; Mexico&nbsp\;</p>\n</div>\n</div>\n
LOCATION:Virtual
UID:e.2428.15977
SEQUENCE:3
DTSTAMP:20260424T122913Z
URL:https://business.slchamber.com/events/details/global-business-briefing-15977
END:VEVENT

END:VCALENDAR
