BEGIN:VCALENDAR
VERSION:2.0
PRODID:-//ChamberMaster//Event Calendar 2.0//EN
METHOD:PUBLISH
X-PUBLISHED-TTL:P3D
REFRESH-INTERVAL:P3D
CALSCALE:GREGORIAN
BEGIN:VEVENT
DTSTART:20260730T150000Z
DTEND:20260730T160000Z
X-MICROSOFT-CDO-ALLDAYEVENT:FALSE
SUMMARY:Global Business Briefing
DESCRIPTION:Hosted by the Salt Lake Chamber and World Trade Center Utah \n\n\n\nGlobal dynamics are shifting quickly\, and Utah companies need clear\, actionable insight. The Salt Lake Chamber and World Trade Center Utah are partnering to host a quarterly Global Business Briefing to help business leaders strengthen market access\, evaluate international partnerships\, and stay competitive in an unpredictable environment. \n\n\n\nOur July 30 briefing will focus on Australia\, with insights into current market dynamics\, emerging opportunities\, and how Utah companies can engage. Building on recent engagement in key sectors\, the discussion will highlight where partnerships are gaining traction and what to watch now. \n\n\n\nComing up: \n\nOctober 29   Mexico
X-ALT-DESC;FMTTYPE=text/html:<div>\n<p paraeid="{b64adede-ea8c-4069-b57d-f75ddfd7d87d}{231}" paraid="962768229"><br />\nHosted by the Salt Lake Chamber and World Trade Center Utah&nbsp\;</p>\n</div>\n\n<div>\n<p paraeid="{b64adede-ea8c-4069-b57d-f75ddfd7d87d}{237}" paraid="430100208">Global dynamics are shifting quickly\, and Utah companies need clear\, actionable insight. The&nbsp\;<a href="https://slchamber.com/" rel="noreferrer noopener" target="_blank">Salt Lake Chamber</a>&nbsp\;and&nbsp\;<a href="https://www.wtcutah.com/" rel="noreferrer noopener" target="_blank">World Trade Center Utah</a>&nbsp\;are partnering to host a&nbsp\;quarterly&#8239\;Global Business Briefing&#8239\;to&nbsp\;help business leaders strengthen market access\, evaluate international partnerships\, and stay competitive in an unpredictable environment.&nbsp\;</p>\n</div>\n\n<div>\n<p paraeid="{f3b799e8-5051-48a5-a0c2-e1d765ccf14c}{12}" paraid="1050097223">Our July 30&nbsp\;briefing&nbsp\;will focus on Australia\, with insights into current&nbsp\;market dynamics\, emerging opportunities\, and how Utah companies can engage. Building on recent engagement in key sectors\, the discussion will highlight where partnerships are gaining traction and what to watch now.&nbsp\;</p>\n</div>\n\n<div>\n<p paraeid="{f3b799e8-5051-48a5-a0c2-e1d765ccf14c}{28}" paraid="1774975242">Coming up:&nbsp\;<br />\n<a href="https://business.slchamber.com/events/details/global-business-briefing-15979" rel="noreferrer noopener" target="_blank">October 29</a>&nbsp\;&mdash\; Mexico&nbsp\;</p>\n</div>\n<br />\n&nbsp\;
LOCATION:Virtual
UID:e.2428.15978
SEQUENCE:3
DTSTAMP:20260422T234241Z
URL:https://business.slchamber.com/events/details/global-business-briefing-15978
END:VEVENT

END:VCALENDAR
