BEGIN:VCALENDAR
VERSION:2.0
PRODID:-//ChamberMaster//Event Calendar 2.0//EN
METHOD:PUBLISH
X-PUBLISHED-TTL:P3D
REFRESH-INTERVAL:P3D
CALSCALE:GREGORIAN
BEGIN:VEVENT
DTSTART;VALUE=DATE:20260327
DTEND;VALUE=DATE:20260329
TRANSP:TRANSPARENT
X-MICROSOFT-CDO-ALLDAYEVENT:TRUE
SUMMARY:2026 HGGC Steve Young Ski Classic
DESCRIPTION:For the last 40 years\, the HGGC Steve Young Ski Classic has been Utah's premier celebration of inclusive skiing\, benefiting children\, adults\, and veterans with disabilities. Join us for our 40th anniversary to support Wasatch Adaptive Sports and our work to meet the growing needs of our community.\n\nDate: Saturday\, March 28th\, 2026\n\nThe Athlete Challenge features exciting adaptive ski races where 50+ adaptive athletes\, including WAS participants\, go head-to-head against Paralympians\, local mascots\, princesses\, and professional athletes on Chickadee run.\n\nThe Evening Event is a true celebration\, bringing everyone together for a night of live music\, dinner\, and both live and silent auctions. The Cliff Lodge sets the stage for inspiring stories from WAS athletes and their families.
X-ALT-DESC;FMTTYPE=text/html:<p style="text-align:center"><strong>For the last 40 years\, the HGGC Steve Young Ski Classic has been Utah&rsquo\;s premier celebration of inclusive skiing\, benefiting children\, adults\, and veterans with disabilities. Join us for our 40th anniversary to support Wasatch Adaptive Sports and our work to meet the growing needs of our community.</strong></p>\n\n<p style="text-align:center">Date: Saturday\, March 28th\, 2026</p>\n\n<p style="text-align:center"><strong>The Athlete Challenge</strong>&nbsp\;features exciting adaptive ski races where 50+ adaptive athletes\, including WAS participants\, go head-to-head against Paralympians\, local mascots\, princesses\, and professional athletes on Chickadee run.</p>\n\n<p style="text-align:center"><strong>The Evening Event</strong>&nbsp\;is a true celebration\, bringing everyone together for a night of live music\, dinner\, and both live and silent auctions. The Cliff Lodge sets the stage for inspiring stories from WAS athletes and their families.</p>\n
LOCATION:Snowbird Mountain Resort
UID:e.2428.15893
SEQUENCE:3
DTSTAMP:20260424T135417Z
URL:https://business.slchamber.com/events/details/hggc-steve-young-ski-classic-15893
END:VEVENT

END:VCALENDAR
