BEGIN:VCALENDAR
VERSION:2.0
PRODID:-//ChamberMaster//Event Calendar 2.0//EN
METHOD:PUBLISH
X-PUBLISHED-TTL:P3D
REFRESH-INTERVAL:P3D
CALSCALE:GREGORIAN
BEGIN:VEVENT
DTSTART:20260505T150000Z
DTEND:20260505T223000Z
X-MICROSOFT-CDO-ALLDAYEVENT:FALSE
SUMMARY:Mental Health First Aid Training
DESCRIPTION:Mental Health First Aid (MHFA) is an internationally recognized\, evidence-based training program that teaches participants how to identify\, understand\, and respond to signs of mental health and substance use challenges. Just like CPR or traditional First Aid\, MHFA equips you with the tools to assist someone in crisis until professional help is available.\n\n\n\nThis training covers a range of common mental health and substance use challenges\, including:\n\n  Depression and mood disorders\n\n  Anxiety disorders\n\n  Trauma\n\n  Psychosis\n\n  Substance use disorders\n\n  Self-care strategies\n\n\n\nThis full day in person workshop is Sponsored by Moreton and Co.\n\n\n\nPlease note there is 2 hours of online prep required before the in person workshop.\n\n\n\n \n\nThis class will be capped at 30 participants.
X-ALT-DESC;FMTTYPE=text/html:<div style="margin-left:0px">\n<p><span style="font-size:11pt\;"><a data-saferedirecturl="https://www.google.com/url?q=https://linkprotect.cudasvc.com/url?a%3Dhttps%253a%252f%252fmentalhealthfirstaid.org%252fabout%252f%26c%3DE\,1\,FE1Ebp3e9x_DJZM8wWcSIc5Qv58uafBVPcbhB9iQ6lj8_7spoByTF9sZSQcudndCB4LEp4FxoYvPvHIqbfhuZ0xLMcrriGyFO7xaEI5FZWBCEMGv7g9vMec\,%26typo%3D1&amp\;source=gmail&amp\;ust=1772231378677000&amp\;usg=AOvVaw0GIHfUAIe0tMvwrsC3RAEK" href="https://linkprotect.cudasvc.com/url?a=https%3a%2f%2fmentalhealthfirstaid.org%2fabout%2f&amp\;c=E\,1\,FE1Ebp3e9x_DJZM8wWcSIc5Qv58uafBVPcbhB9iQ6lj8_7spoByTF9sZSQcudndCB4LEp4FxoYvPvHIqbfhuZ0xLMcrriGyFO7xaEI5FZWBCEMGv7g9vMec\,&amp\;typo=1" style="color:rgb(17\, 85\, 204)\;" target="_blank">Mental Health First Aid (MHFA)</a>&nbsp\;is an internationally recognized\, evidence-based training program that teaches participants how to identify\, understand\, and respond to signs of mental health and substance use challenges. Just like CPR or traditional First Aid\, MHFA equips you with the tools to assist someone in crisis until professional help is available.</span><br />\n<br />\n<span style="font-size:11pt\;">This training covers a range of common mental health and substance use challenges\, including:<br />\n&bull\; Depression and mood disorders<br />\n&bull\; Anxiety disorders<br />\n&bull\; Trauma<br />\n&bull\; Psychosis<br />\n&bull\; Substance use disorders<br />\n&bull\; Self-care strategies</span><br />\n<br />\n<span style="font-size:11pt\;">This full day in person workshop is Sponsored by Moreton and Co.<br />\n<br />\nPlease note there is 2 hours of online prep required before the in person workshop.</span></p>\n</div>\n\n<div style="margin-left:0px">\n<p>&nbsp\;<br />\n<span style="font-size:11pt\;">This class will be capped at 30 participants.</span><br />\n&nbsp\;</p>\n</div>\n
LOCATION:101 South 200 East\, Suite 300 Salt Lake City\, Utah 84111
UID:e.2428.16043
SEQUENCE:3
DTSTAMP:20260422T203622Z
URL:https://business.slchamber.com/events/details/mental-health-first-aid-training-16043
END:VEVENT

END:VCALENDAR
