BEGIN:VCALENDAR
VERSION:2.0
PRODID:-//ChamberMaster//Event Calendar 2.0//EN
METHOD:PUBLISH
X-PUBLISHED-TTL:P3D
REFRESH-INTERVAL:P3D
CALSCALE:GREGORIAN
BEGIN:VEVENT
DTSTART:20260219T163000Z
DTEND:20260219T220000Z
X-MICROSOFT-CDO-ALLDAYEVENT:FALSE
SUMMARY:Moab Work Ability Career Preparation & Job Fair
DESCRIPTION:EMPLOYER REGISTRATION\n						\n					\n				\n			\n			\n		\n		\n			\n			\n				\n					\n						\n						EMPLOYER REGISTRATION - \n\n						Work Ability MOAB Career Exploration and Job Fair February 19\, 2026\n\n						9:30 AM - 3:00 PM \n\n						Moab Grande Center\n\n						182 N. 500 W\n\n						Lunch for registered employers sponsored by Disability:IN Utah \n\n						 https://tinyurl.com/37nyzfm5\n						\n					\n				\n			\n			\n		\n	\n\n \n\n\n	\n		\n			\n			\n				\n					\n						\n						JOB SEEKER REGISTRATION\n						\n					\n				\n			\n			\n		\n		\n			\n			\n				\n					\n						\n						JOB SEEKER REGISTRATION - \n\n						Work Ability MOAB Career Exploration and Job Fair February 19\, 2026\n\n						9:30 AM - 3:00 PM \n\n						Moab Grande Center\n\n						182 N. 500 W\n\n						All job seeker welcome\n\n						https://tinyurl.com/3bzxr7ps
X-ALT-DESC;FMTTYPE=text/html:<table style="color: rgb(34\, 34\, 34)\; font-family: Arial\, Helvetica\, sans-serif\; font-size: small\; vertical-align: top\; display: inline-table\; border-collapse: collapse\; border-spacing: 0px\;" width="50%">\n	<tbody>\n		<tr>\n			<td style="margin: 0px\; padding-left: 9px\; padding-right: 9px\;" width="100%">\n			<table cellpadding="7px" style="border-collapse: collapse\; border-spacing: 0px\;" width="100%">\n				<tbody>\n					<tr>\n						<td align="center" style="margin: 0px\; word-break: break-word\;" width="100%">\n						<h2 dir="ltr" id="m_-1334026361069642542m_-3078524191815795252gmail-h.7ljladuseoow_l" style="margin: 0px 0pt\; padding-top: 0px\; padding-bottom: 0px\; font-size: 18pt\; font-family: Tahoma\; font-weight: 700\; font-variant-numeric: normal\; font-variant-east-asian: normal\; font-variant-alternates: normal\; font-variant-position: normal\; font-variant-emoji: normal\; vertical-align: baseline\; padding-left: 0pt\; text-indent: 0pt\; color: rgb(28\, 28\, 28)\; outline: none\;"><a data-saferedirecturl="https://www.google.com/url?q=https://linkprotect.cudasvc.com/url?a%3Dhttps%253a%252f%252ftinyurl.com%252f37nyzfm5%26c%3DE\,1\,nw3Ej93Vk1xAEQEkE9EAiYolKWyPOsw3JR3ju7OkwotcL5743_DVJA5oqy3EHRidIxQawZcSW9YkLCdDt0Mz_mVpU6NiOtJeMVaSow7BhuGHVCFV%26typo%3D1&amp\;source=gmail&amp\;ust=1768317949723000&amp\;usg=AOvVaw0PysWec8NMiCohAy4ufZ-X" href="https://linkprotect.cudasvc.com/url?a=https%3a%2f%2ftinyurl.com%2f37nyzfm5&amp\;c=E\,1\,nw3Ej93Vk1xAEQEkE9EAiYolKWyPOsw3JR3ju7OkwotcL5743_DVJA5oqy3EHRidIxQawZcSW9YkLCdDt0Mz_mVpU6NiOtJeMVaSow7BhuGHVCFV&amp\;typo=1" style="color: inherit\; text-decoration-line: none\;" target="_blank"><span style="text-decoration-line: underline\;">EMPLOYER REGISTRATION</span></a></h2>\n						</td>\n					</tr>\n				</tbody>\n			</table>\n			</td>\n		</tr>\n		<tr>\n			<td style="margin: 0px\; padding-left: 9px\; padding-right: 9px\;" width="100%">\n			<table cellpadding="7px" style="border-collapse: collapse\; border-spacing: 0px\;" width="100%">\n				<tbody>\n					<tr>\n						<td align="center" style="margin: 0px\; word-break: break-word\;" width="100%">\n						<p dir="ltr" style="margin: 0px 0pt 0pt\; padding-top: 0px\; font-family: Tahoma\; font-variant-numeric: normal\; font-variant-east-asian: normal\; font-variant-alternates: normal\; font-variant-position: normal\; font-variant-emoji: normal\; vertical-align: baseline\; line-height: 1.2\; padding-left: 0pt\; text-indent: 0pt\; font-size: 12pt\; color: rgb(28\, 28\, 28)\; outline: none\;">EMPLOYER REGISTRATION -&nbsp\;</p>\n\n						<p dir="ltr" style="font-family: Tahoma\; font-variant-numeric: normal\; font-variant-east-asian: normal\; font-variant-alternates: normal\; font-variant-position: normal\; font-variant-emoji: normal\; vertical-align: baseline\; line-height: 1.2\; margin: 6pt 0pt 0pt\; padding-left: 0pt\; text-indent: 0pt\; font-size: 12pt\; color: rgb(28\, 28\, 28)\; outline: none\;">Work Ability MOAB Career Exploration and Job Fair February 19\, 2026</p>\n\n						<p dir="ltr" style="font-family: Tahoma\; font-variant-numeric: normal\; font-variant-east-asian: normal\; font-variant-alternates: normal\; font-variant-position: normal\; font-variant-emoji: normal\; vertical-align: baseline\; line-height: 1.2\; margin: 6pt 0pt 0pt\; padding-left: 0pt\; text-indent: 0pt\; font-size: 12pt\; color: rgb(28\, 28\, 28)\; outline: none\;">9:30 AM - 3:00 PM&nbsp\;</p>\n\n						<p dir="ltr" style="font-family: Tahoma\; font-variant-numeric: normal\; font-variant-east-asian: normal\; font-variant-alternates: normal\; font-variant-position: normal\; font-variant-emoji: normal\; vertical-align: baseline\; line-height: 1.2\; margin: 6pt 0pt 0pt\; padding-left: 0pt\; text-indent: 0pt\; font-size: 12pt\; color: rgb(28\, 28\, 28)\; outline: none\;">Moab Grande Center</p>\n\n						<p dir="ltr" style="font-family: Tahoma\; font-variant-numeric: normal\; font-variant-east-asian: normal\; font-variant-alternates: normal\; font-variant-position: normal\; font-variant-emoji: normal\; vertical-align: baseline\; line-height: 1.2\; margin: 6pt 0pt 0pt\; padding-left: 0pt\; text-indent: 0pt\; font-size: 12pt\; color: rgb(28\, 28\, 28)\; outline: none\;">182 N. 500 W</p>\n\n						<p dir="ltr" style="font-family: Tahoma\; font-variant-numeric: normal\; font-variant-east-asian: normal\; font-variant-alternates: normal\; font-variant-position: normal\; font-variant-emoji: normal\; vertical-align: baseline\; line-height: 1.2\; margin: 6pt 0pt 0pt\; padding-left: 0pt\; text-indent: 0pt\; font-size: 12pt\; color: rgb(28\, 28\, 28)\; outline: none\;">Lunch for registered employers sponsored by&nbsp\;<a data-saferedirecturl="https://www.google.com/url?q=https://linkprotect.cudasvc.com/url?a%3Dhttps%253a%252f%252fwww.disabilityinutah.org%252f%26c%3DE\,1\,cjIMpZNHJpQbbv1gWasIfAxW1kdiD3kgTa2av-88E_5Af57FP-pLkvvamvRaKANB1sYWkpG3NILZXGQ3zu52oAiE2uKWPAAsCOx12W_WOJDFWJqsk8_oSA\,\,%26typo%3D1&amp\;source=gmail&amp\;ust=1768317949723000&amp\;usg=AOvVaw1DIy6Lv1K2bgOGHiUNWwMb" href="https://linkprotect.cudasvc.com/url?a=https%3a%2f%2fwww.disabilityinutah.org%2f&amp\;c=E\,1\,cjIMpZNHJpQbbv1gWasIfAxW1kdiD3kgTa2av-88E_5Af57FP-pLkvvamvRaKANB1sYWkpG3NILZXGQ3zu52oAiE2uKWPAAsCOx12W_WOJDFWJqsk8_oSA\,\,&amp\;typo=1" style="color: inherit\; text-decoration-line: none\;" target="_blank"><span style="text-decoration-line: underline\;">Disability:IN Utah</span></a>&nbsp\;</p>\n\n						<p dir="ltr" style="margin: 6pt 0pt 0px\; padding-bottom: 0px\; font-family: Tahoma\; font-variant-numeric: normal\; font-variant-east-asian: normal\; font-variant-alternates: normal\; font-variant-position: normal\; font-variant-emoji: normal\; vertical-align: baseline\; line-height: 1.2\; padding-left: 0pt\; text-indent: 0pt\; font-size: 12pt\; color: rgb(28\, 28\, 28)\; outline: none\;">&nbsp\;<a data-saferedirecturl="https://www.google.com/url?q=https://linkprotect.cudasvc.com/url?a%3Dhttps%253a%252f%252ftinyurl.com%252f37nyzfm5%26c%3DE\,1\,AxRWGpkzAyhIL4_98orpVKQF9okMwOG-LgjOON6WJRQjMzK6CNTMhySpcF1urRLe_YUu40O4ADGGgTfQDUb5YkWtyrst-MzzYjynM0OaQgB08_E4rfgX03c\,%26typo%3D1&amp\;source=gmail&amp\;ust=1768317949723000&amp\;usg=AOvVaw2w6FUCM1GNaNBQKimQ7Nd1" href="https://linkprotect.cudasvc.com/url?a=https%3a%2f%2ftinyurl.com%2f37nyzfm5&amp\;c=E\,1\,AxRWGpkzAyhIL4_98orpVKQF9okMwOG-LgjOON6WJRQjMzK6CNTMhySpcF1urRLe_YUu40O4ADGGgTfQDUb5YkWtyrst-MzzYjynM0OaQgB08_E4rfgX03c\,&amp\;typo=1" style="color: inherit\; text-decoration-line: none\;" target="_blank"><span style="text-decoration-line: underline\;">https://tinyurl.com/37nyzfm5</span></a></p>\n						</td>\n					</tr>\n				</tbody>\n			</table>\n			</td>\n		</tr>\n	</tbody>\n</table>\n&nbsp\;\n\n<table style="color: rgb(34\, 34\, 34)\; font-family: Arial\, Helvetica\, sans-serif\; font-size: small\; vertical-align: top\; display: inline-table\; border-collapse: collapse\; border-spacing: 0px\;" width="50%">\n	<tbody>\n		<tr>\n			<td style="margin: 0px\; padding-left: 9px\; padding-right: 9px\;" width="100%">\n			<table cellpadding="7px" style="border-collapse: collapse\; border-spacing: 0px\;" width="100%">\n				<tbody>\n					<tr>\n						<td align="center" style="margin: 0px\; word-break: break-word\;" width="100%">\n						<h2 dir="ltr" id="m_-1334026361069642542m_-3078524191815795252gmail-h.ytel5we77ge3_l" style="margin: 0px 0pt\; padding-top: 0px\; padding-bottom: 0px\; font-size: 18pt\; font-family: Tahoma\; font-weight: 700\; font-variant-numeric: normal\; font-variant-east-asian: normal\; font-variant-alternates: normal\; font-variant-position: normal\; font-variant-emoji: normal\; vertical-align: baseline\; padding-left: 0pt\; text-indent: 0pt\; color: rgb(28\, 28\, 28)\; outline: none\;"><a data-saferedirecturl="https://www.google.com/url?q=https://docs.google.com/forms/d/e/1FAIpQLScnCyKtRdU9OYX50ATr9nYItdonzv7UakI8lEsS68Fydls1fA/viewform&amp\;source=gmail&amp\;ust=1768317949723000&amp\;usg=AOvVaw3n82Hr4rWOokWuCfWR-wlp" href="https://docs.google.com/forms/d/e/1FAIpQLScnCyKtRdU9OYX50ATr9nYItdonzv7UakI8lEsS68Fydls1fA/viewform" style="color: inherit\; text-decoration-line: none\;" target="_blank"><span style="text-decoration-line: underline\;">JOB SEEKER REGISTRATION</span></a></h2>\n						</td>\n					</tr>\n				</tbody>\n			</table>\n			</td>\n		</tr>\n		<tr>\n			<td style="margin: 0px\; padding-left: 9px\; padding-right: 9px\;" width="100%">\n			<table cellpadding="7px" style="border-collapse: collapse\; border-spacing: 0px\;" width="100%">\n				<tbody>\n					<tr>\n						<td align="center" style="margin: 0px\; word-break: break-word\;" width="100%">\n						<p dir="ltr" style="margin: 0px 0pt 0pt\; padding-top: 0px\; font-family: Tahoma\; font-variant-numeric: normal\; font-variant-east-asian: normal\; font-variant-alternates: normal\; font-variant-position: normal\; font-variant-emoji: normal\; vertical-align: baseline\; line-height: 1.2\; padding-left: 0pt\; text-indent: 0pt\; font-size: 12pt\; color: rgb(28\, 28\, 28)\; outline: none\;">JOB SEEKER&nbsp\;<span style="font-variant-numeric: normal\; font-variant-east-asian: normal\; font-variant-alternates: normal\; font-variant-position: normal\; font-variant-emoji: normal\;">REGISTRATION -&nbsp\;</span></p>\n\n						<p dir="ltr" style="font-family: Tahoma\; font-variant-numeric: normal\; font-variant-east-asian: normal\; font-variant-alternates: normal\; font-variant-position: normal\; font-variant-emoji: normal\; vertical-align: baseline\; line-height: 1.2\; margin: 6pt 0pt 0pt\; padding-left: 0pt\; text-indent: 0pt\; font-size: 12pt\; color: rgb(28\, 28\, 28)\; outline: none\;"><span style="font-variant-numeric: normal\; font-variant-east-asian: normal\; font-variant-alternates: normal\; font-variant-position: normal\; font-variant-emoji: normal\;">Work Ability MOAB Career Exploration and Job Fair February 19\, 2026</span></p>\n\n						<p dir="ltr" style="font-family: Tahoma\; font-variant-numeric: normal\; font-variant-east-asian: normal\; font-variant-alternates: normal\; font-variant-position: normal\; font-variant-emoji: normal\; vertical-align: baseline\; line-height: 1.2\; margin: 6pt 0pt 0pt\; padding-left: 0pt\; text-indent: 0pt\; font-size: 12pt\; color: rgb(28\, 28\, 28)\; outline: none\;"><span style="font-variant-numeric: normal\; font-variant-east-asian: normal\; font-variant-alternates: normal\; font-variant-position: normal\; font-variant-emoji: normal\;">9:30 AM - 3:00 PM&nbsp\;</span></p>\n\n						<p dir="ltr" style="font-family: Tahoma\; font-variant-numeric: normal\; font-variant-east-asian: normal\; font-variant-alternates: normal\; font-variant-position: normal\; font-variant-emoji: normal\; vertical-align: baseline\; line-height: 1.2\; margin: 6pt 0pt 0pt\; padding-left: 0pt\; text-indent: 0pt\; font-size: 12pt\; color: rgb(28\, 28\, 28)\; outline: none\;"><span style="font-variant-numeric: normal\; font-variant-east-asian: normal\; font-variant-alternates: normal\; font-variant-position: normal\; font-variant-emoji: normal\;">Moab Grande Center</span></p>\n\n						<p dir="ltr" style="font-family: Tahoma\; font-variant-numeric: normal\; font-variant-east-asian: normal\; font-variant-alternates: normal\; font-variant-position: normal\; font-variant-emoji: normal\; vertical-align: baseline\; line-height: 1.2\; margin: 6pt 0pt 0pt\; padding-left: 0pt\; text-indent: 0pt\; font-size: 12pt\; color: rgb(28\, 28\, 28)\; outline: none\;"><span style="font-variant-numeric: normal\; font-variant-east-asian: normal\; font-variant-alternates: normal\; font-variant-position: normal\; font-variant-emoji: normal\;">182 N. 500 W</span></p>\n\n						<p dir="ltr" style="font-family: Tahoma\; font-variant-numeric: normal\; font-variant-east-asian: normal\; font-variant-alternates: normal\; font-variant-position: normal\; font-variant-emoji: normal\; vertical-align: baseline\; line-height: 1.2\; margin: 6pt 0pt 0pt\; padding-left: 0pt\; text-indent: 0pt\; font-size: 12pt\; color: rgb(28\, 28\, 28)\; outline: none\;">All job seeker welcome</p>\n\n						<p dir="ltr" style="margin: 6pt 0pt 0px\; padding-bottom: 0px\; font-family: Tahoma\; font-variant-numeric: normal\; font-variant-east-asian: normal\; font-variant-alternates: normal\; font-variant-position: normal\; font-variant-emoji: normal\; vertical-align: baseline\; line-height: 1.2\; padding-left: 0pt\; text-indent: 0pt\; font-size: 12pt\; color: rgb(28\, 28\, 28)\; outline: none\;"><a data-saferedirecturl="https://www.google.com/url?q=https://linkprotect.cudasvc.com/url?a%3Dhttps%253a%252f%252ftinyurl.com%252f3bzxr7ps%26c%3DE\,1\,c-FxTO1ue1nalFZ818HFyl95EoWebhRfb2n0L8wXWQYrYfkR_E1AKdta7KzbBVp7QKpX-zT_ezrB1mDhsoGJxF6_AadYpu749MtBJeRL90TBOw\,\,%26typo%3D1&amp\;source=gmail&amp\;ust=1768317949723000&amp\;usg=AOvVaw059YEpOA2wkraGmk0ea_F9" href="https://linkprotect.cudasvc.com/url?a=https%3a%2f%2ftinyurl.com%2f3bzxr7ps&amp\;c=E\,1\,c-FxTO1ue1nalFZ818HFyl95EoWebhRfb2n0L8wXWQYrYfkR_E1AKdta7KzbBVp7QKpX-zT_ezrB1mDhsoGJxF6_AadYpu749MtBJeRL90TBOw\,\,&amp\;typo=1" style="color: inherit\; text-decoration-line: none\;" target="_blank"><span style="text-decoration-line: underline\;">https://tinyurl.com/3bzxr7ps</span></a></p>\n						</td>\n					</tr>\n				</tbody>\n			</table>\n			</td>\n		</tr>\n	</tbody>\n</table>\n
LOCATION:Grande Center 182 N. 500 W\, Moab\, UT
UID:e.2428.15982
SEQUENCE:3
DTSTAMP:20260424T153527Z
URL:https://business.slchamber.com/events/details/moab-work-ability-career-preparation-job-fair-15982
END:VEVENT

END:VCALENDAR
