BEGIN:VCALENDAR
VERSION:2.0
PRODID:-//ChamberMaster//Event Calendar 2.0//EN
METHOD:PUBLISH
X-PUBLISHED-TTL:P3D
REFRESH-INTERVAL:P3D
CALSCALE:GREGORIAN
BEGIN:VEVENT
DTSTART;VALUE=DATE:20260227
DTEND;VALUE=DATE:20260228
TRANSP:TRANSPARENT
X-MICROSOFT-CDO-ALLDAYEVENT:TRUE
SUMMARY:Morgan Stanley Small Business academy Application Deadline
DESCRIPTION:Morgan Stanley Small Business Academy is an educational program that seeks to provide small business owners with the knowledge\, tools\, and mentorship opportunities to help them win work with leading financial services firms. The Academy focuses on helping small businesses leverage their competitive advantage\, differentiate themselves in the procurement process\, strengthen their business knowledge\, and build their professional network.\n\n\n\nThe Academy consists of a 12-week virtual\, instructor facilitated learning experience\, followed by a yearlong mentorship program.\n\nAs a Firm\, we acknowledge the barriers and resource constraints that often prevent small businesses from getting their foot in the door. The Academy provides small businesses with the expertise to help them win work with financial services firms and other industries.\n\n \n\nFor more information on the program\, please see the attached flier. The application is now available on our website: https://www.morganstanley.com/about-us/supplier-diversity/small-business-academy1\n\n \n\nIf you have any questions regarding the Academy\, please email mssba_inquiries@morganstanley.com.
X-ALT-DESC;FMTTYPE=text/html:<span style="font-size:11pt\;">Morgan Stanley Small Business Academy is an educational program that seeks to provide small business owners with the knowledge\, tools\, and mentorship opportunities to help them win work with leading financial services firms. The Academy focuses on helping small businesses leverage their competitive advantage\, differentiate themselves in the procurement process\, strengthen their business knowledge\, and build their professional network.</span><br />\n<br />\n<span style="font-size:11pt\;">The Academy consists of a 12-week virtual\, instructor&#8209\;facilitated learning experience\, followed by a yearlong mentorship program.</span><br />\n<span style="font-size:11pt\;">As a Firm\, we acknowledge the barriers and resource constraints that often prevent small businesses from getting their foot in the door. The Academy provides small businesses with the expertise to help them win work with financial services firms and other industries.</span><br />\n&nbsp\;<br />\n<span style="font-size:11pt\;">For more information on the program\, please see the attached flier. The application is now available on our website:&nbsp\;<a data-saferedirecturl="https://www.google.com/url?q=https://www.morganstanley.com/about-us/supplier-diversity/small-business-academy1&amp\;source=gmail&amp\;ust=1768317946493000&amp\;usg=AOvVaw1oVAEN9wVCWTi2sjxqgEDO" href="https://www.morganstanley.com/about-us/supplier-diversity/small-business-academy1" style="color:rgb(17\, 85\, 204)\;" target="_blank">https://www.morganstanley.com/<wbr />about-us/supplier-diversity/<wbr />small-business-academy1</a></span><br />\n&nbsp\;<br />\n<span style="font-size:11pt\;">If you have any questions regarding the Academy\, please email&nbsp\;<a href="mailto:mssba_inquiries@morganstanley.com" style="color:rgb(17\, 85\, 204)\;" target="_blank">mssba_inquiries@morganstanley.<wbr />com</a>.</span>
LOCATION:
UID:e.2428.15980
SEQUENCE:3
DTSTAMP:20260424T153527Z
URL:https://business.slchamber.com/events/details/morgan-stanley-small-business-academy-application-deadline-15980
END:VEVENT

END:VCALENDAR
