BEGIN:VCALENDAR
VERSION:2.0
PRODID:-//ChamberMaster//Event Calendar 2.0//EN
METHOD:PUBLISH
X-PUBLISHED-TTL:P3D
REFRESH-INTERVAL:P3D
CALSCALE:GREGORIAN
BEGIN:VEVENT
DTSTART:20260501T230000Z
DTEND:20260502T033000Z
X-MICROSOFT-CDO-ALLDAYEVENT:FALSE
SUMMARY:Pioneer Theatre Company's Annual Gala Honoring The Spencer F. and Cleone P. Eccles Family
DESCRIPTION:Pioneer Theatre Company's Annual Gala\n\nHonoring The Spencer F. and Cleone P. Eccles Family\n\nJoin us for an unforgettable evening celebrating the legacy\, leadership\, and generosity of the Spencer F. and Cleone P. Eccles Family whose extraordinary commitment to arts\, education\, and community has helped shape Pioneer Theatre Company and the cultural life of Utah for generations.\n\nAs Pioneer Theatre Company enters its next chapter\, guided by a bold new strategic plan for the future\, we pause to honor the individuals and families whose vision and support have made our work possible. Their investment in storytelling\, artists\, and community continues to inspire and sustain our mission.\n\nThe evening will begin with a reception and dinner in celebration of the Eccles Family and the enduring impact of their visionary leadership. Following the program\, guests will attend the Utah premiere of the Tony Award winning musical Come From Away a powerful and uplifting story about compassion\, resilience\, and the extraordinary connections that emerge in times of uncertainty.\n\nThis special evening brings together friends\, supporters\, and leaders from across our community to celebrate the past\, invest in the future\, and experience the transformative power of live theatre.
X-ALT-DESC;FMTTYPE=text/html:<p><span style="font-size:14px"><span style="font-family:verdana"><strong>Pioneer Theatre Company&rsquo\;s Annual Gala</strong><br />\n<strong>Honoring The Spencer F. and Cleone P. Eccles Family</strong></span></span></p>\n\n<p><span style="font-family:verdana">Join us for an unforgettable evening celebrating the legacy\, leadership\, and generosity of the Spencer F. and Cleone P. Eccles Family&mdash\;whose extraordinary commitment to arts\, education\, and community has helped shape Pioneer Theatre Company and the cultural life of Utah for generations.</span></p>\n\n<p><span style="font-family:verdana">As Pioneer Theatre Company enters its next chapter\, guided by a bold new strategic plan for the future\, we pause to honor the individuals and families whose vision and support have made our work possible. Their investment in storytelling\, artists\, and community continues to inspire and sustain our mission.</span></p>\n\n<p><span style="font-family:verdana">The evening will begin with a reception and dinner in celebration of the Eccles Family and the enduring impact of their visionary leadership. Following the program\, guests will attend the <strong>Utah premiere of the Tony Award&ndash\;winning musical <em>Come From Away</em></strong>&mdash\;a powerful and uplifting story about compassion\, resilience\, and the extraordinary connections that emerge in times of uncertainty.</span></p>\n\n<p><span style="font-family:verdana">This special evening brings together friends\, supporters\, and leaders from across our community to celebrate the past\, invest in the future\, and experience the transformative power of live theatre.</span></p>\n
LOCATION:Reception and Dinner Rice Eccles Stadium Scholarship Reception Room 451 1400 E\, Salt Lake City\, UT 84112 Performance of COME FROM AWAY Simmons Pioneer Memorial Theatre 300 S 1400 East\, Salt Lake City\, UT 84112 Festive or Business Attire
UID:e.2428.16052
SEQUENCE:3
DTSTAMP:20260422T203836Z
URL:https://business.slchamber.com/events/details/pioneer-theatre-company-s-annual-gala-honoring-the-spencer-f-and-cleone-p-eccles-family-16052
END:VEVENT

END:VCALENDAR
