BEGIN:VCALENDAR
VERSION:2.0
PRODID:-//ChamberMaster//Event Calendar 2.0//EN
METHOD:PUBLISH
X-PUBLISHED-TTL:P3D
REFRESH-INTERVAL:P3D
CALSCALE:GREGORIAN
BEGIN:VEVENT
DTSTART:20260314T003000Z
DTEND:20260314T023000Z
X-MICROSOFT-CDO-ALLDAYEVENT:FALSE
SUMMARY:Reinventing Medicine with Technology and Artificial Intelligence: Dr. Jagmeet Singh
DESCRIPTION:Dr. Jagmeet Singh\n\n*Cardiologist | Professor | Author of Future Care\n\n\n\nA pioneer pushing traditional boundaries\, Jag advocates reshaping medicine\, shifting common thinking to predicting and preventing disease. His new book\, Future Care: Sensors\, Artificial Intelligence and the Reinvention of Medicine\, illuminates gains reimagining health supported by continuous\, value-based care in short\, prevention over intervention.\n\n\n\nDr. Jagmeet Singh is a world-renowned cardiologist\, Professor of Medicine at Harvard Medical School\, and Director of the Advanced Cardiac Therapeutics Program at Massachusetts General Hospital. A trailblazer in digital health\, Jag is redefining medicine by integrating AI\, wearable sensors\, and predictive analytics to prevent disease before it starts. \n\n\n\nDistinguished as the Founding Director of the Advanced Cardiac Therapeutics Program at Massachusetts General Hospital Heart Center\, Jag fostered multidisciplinary methods while furthering digital initiatives. Established at MassGen for more than 25 years\, he completed his internal medicine residency there as well as cardiology and cardiac electrophysiology fellowships. He earned his PhD at Oxford University and a Master of Science in clinical investigation from MIT-Harvard. In addition to notable academics and research\, Jag puts his findings into real-world application as a practicing doctor\, identifying and resolving advanced heart issues.
X-ALT-DESC;FMTTYPE=text/html:Dr. Jagmeet Singh<br />\n*Cardiologist | Professor | Author of Future Care<br />\n<br />\nA pioneer pushing traditional boundaries\, Jag advocates reshaping medicine\, shifting common thinking to predicting and preventing disease. His new book\, Future Care: Sensors\, Artificial Intelligence and the Reinvention of Medicine\, illuminates gains reimagining health supported by continuous\, value-based care&mdash\;in short\, prevention over intervention.<br />\n<br />\nDr. Jagmeet Singh is a world-renowned cardiologist\, Professor of Medicine at Harvard Medical School\, and Director of the Advanced Cardiac Therapeutics Program at Massachusetts General Hospital. A trailblazer in digital health\, Jag is redefining medicine by integrating AI\, wearable sensors\, and predictive analytics to prevent disease before it starts.&nbsp\;<br />\n<br />\nDistinguished as the Founding Director of the Advanced Cardiac Therapeutics Program at Massachusetts General Hospital Heart Center\, Jag fostered multidisciplinary methods while furthering digital initiatives. Established at MassGen for more than 25 years\, he completed his internal medicine residency there as well as cardiology and cardiac electrophysiology fellowships. He earned his PhD at Oxford University and a Master of Science in clinical investigation from MIT-Harvard. In addition to notable academics and research\, Jag puts his findings into real-world application as a practicing doctor\, identifying and resolving advanced heart issues.
LOCATION:Eccles Center For The Performing Arts 1750 Kearns Blvd\, Park City\, UT 84060
UID:e.2428.15867
SEQUENCE:3
DTSTAMP:20260424T135455Z
URL:https://business.slchamber.com/events/details/reinventing-medicine-with-technology-and-artificial-intelligence-dr-jagmeet-singh-15867
END:VEVENT

END:VCALENDAR
