BEGIN:VCALENDAR
VERSION:2.0
PRODID:-//ChamberMaster//Event Calendar 2.0//EN
METHOD:PUBLISH
X-PUBLISHED-TTL:P3D
REFRESH-INTERVAL:P3D
CALSCALE:GREGORIAN
BEGIN:VEVENT
DTSTART:20260727T010000Z
DTEND:20260727T040000Z
X-MICROSOFT-CDO-ALLDAYEVENT:FALSE
SUMMARY:Sawyer Brown
DESCRIPTION:"We don't have a lot of love songs. We have life songs."   Mark Miller\n\n\n\nFor more than 40 years\, Sawyer Brown has defined what it means to be a high-energy\, blue-collar\, American band. Long before The Voice or American Idol\, America fell in love with their electrifying performances on Star Search with Ed McMahon\, where this charismatic country-rock group stunned the nation and won it all.\n\n\n\nFrom Nashville underdogs to nationwide stars\, Sawyer Brown hit the ground running spending their first year and a half on the road with Kenny Rogers\, playing arenas across the country and learning from one of the best. Since then\, they've carved out a legendary career filled with nonstop touring\, unforgettable shows\, and an unwavering dedication to their fans.\n\n\n\nTheir sound recalls super-groups like Alabama and the Charlie Daniels Band yet their edge\, swagger\, and presence evoke the Rolling Stones and Aerosmith. It's that blend of country storytelling and rock 'n' roll spirit that has captivated audiences for four decades.\n\n\n\nToday\, Sawyer Brown is still delivering the same unapologetic\, grassroots\, good-time energy that made them a household name. Their songs are stories of real life\, real people\, and the heart of America.
X-ALT-DESC;FMTTYPE=text/html:&ldquo\;We don&rsquo\;t have a lot of love songs. We have life songs.&rdquo\; &ndash\; Mark Miller<br />\n<br />\nFor more than 40 years\, Sawyer Brown has defined what it means to be a high-energy\, blue-collar\, American band. Long before The Voice or American Idol\, America fell in love with their electrifying performances on Star Search with Ed McMahon\, where this charismatic country-rock group stunned the nation and won it all.<br />\n<br />\nFrom Nashville underdogs to nationwide stars\, Sawyer Brown hit the ground running&mdash\;spending their first year and a half on the road with Kenny Rogers\, playing arenas across the country and learning from one of the best. Since then\, they&rsquo\;ve carved out a legendary career filled with nonstop touring\, unforgettable shows\, and an unwavering dedication to their fans.<br />\n<br />\nTheir sound recalls super-groups like Alabama and the Charlie Daniels Band&mdash\;yet their edge\, swagger\, and presence evoke the Rolling Stones and Aerosmith. It&rsquo\;s that blend of country storytelling and rock &lsquo\;n&rsquo\; roll spirit that has captivated audiences for four decades.<br />\n<br />\nToday\, Sawyer Brown is still delivering the same unapologetic\, grassroots\, good-time energy that made them a household name. Their songs are stories of real life\, real people\, and the heart of America.
LOCATION:Canyons Village 4000 Canyons Resort Dr Park City\, UT 84098
UID:e.2428.16023
SEQUENCE:3
DTSTAMP:20260422T234337Z
URL:https://business.slchamber.com/events/details/sawyer-brown-07-24-2026-16023
END:VEVENT

END:VCALENDAR
