BEGIN:VCALENDAR
VERSION:2.0
PRODID:-//ChamberMaster//Event Calendar 2.0//EN
METHOD:PUBLISH
X-PUBLISHED-TTL:P3D
REFRESH-INTERVAL:P3D
CALSCALE:GREGORIAN
BEGIN:VEVENT
DTSTART:20251129T180000Z
DTEND:20251129T190000Z
X-MICROSOFT-CDO-ALLDAYEVENT:FALSE
SUMMARY:Scales & Tales at the Museum
DESCRIPTION:One of our wildest adventures is returning for Thanksgiving weekend!\n\n\n\nJoin us for a reptile-filled day of hands-on animal encounters and unforgettable photo opportunities!\n\n\n\nAt this exciting family event\, you'll get the chance to have a close encounter with snakes\, lizards\, turtles\, spiders\, scorpions\, and more! Discover fascinating facts\, hold some of these incredible creatures\, and snap photos with your favorites.\n\n\nLearn more about our partner for this event at scalesandtailsutah.com\n\n\n\nThis special event is included with general admission to the museum.
X-ALT-DESC;FMTTYPE=text/html:<div data-olk-copy-source="MailCompose" style="box-sizing: border-box\; color: rgb(20\, 24\, 39)\; font-family: &quot\;Helvetica Neue&quot\;\, Helvetica\, -apple-system\, BlinkMacSystemFont\, Roboto\, Arial\, sans-serif\; font-size: 16px\; text-align: center\;">\n<p style="box-sizing: border-box\; margin-block: 0px 0.9rem\; margin-bottom: 28px\; font-size: 18px\; line-height: 1.5\;">One of our wildest adventures is returning for Thanksgiving weekend!</p>\n</div>\n\n<div style="box-sizing: border-box\; color: rgb(20\, 24\, 39)\; font-family: &quot\;Helvetica Neue&quot\;\, Helvetica\, -apple-system\, BlinkMacSystemFont\, Roboto\, Arial\, sans-serif\; font-size: 16px\; text-align: center\;">\n<p style="box-sizing: border-box\; margin-block: 0px 0.9rem\; margin-bottom: 28px\; font-size: 18px\; line-height: 1.5\;">Join us for a reptile-filled day of hands-on animal encounters and unforgettable photo opportunities!</p>\n</div>\n\n<div style="box-sizing: border-box\; color: rgb(20\, 24\, 39)\; font-family: &quot\;Helvetica Neue&quot\;\, Helvetica\, -apple-system\, BlinkMacSystemFont\, Roboto\, Arial\, sans-serif\; font-size: 16px\; text-align: center\;">\n<p style="box-sizing: border-box\; margin-block: 0px 0.9rem\; margin-bottom: 28px\; font-size: 18px\; line-height: 1.5\;">At this exciting family event\, you&rsquo\;ll get the chance to have a close encounter with snakes\, lizards\, turtles\, spiders\, scorpions\, and more! Discover fascinating facts\, hold some of these incredible creatures\, and snap photos with your favorites.</p>\n</div>\n\n<div style="box-sizing: border-box\; color: rgb(20\, 24\, 39)\; font-family: &quot\;Helvetica Neue&quot\;\, Helvetica\, -apple-system\, BlinkMacSystemFont\, Roboto\, Arial\, sans-serif\; font-size: 16px\; text-align: center\;">Learn more about our partner for this event at&nbsp\;<a href="https://scalesandtailsutah.com/" style="box-sizing: border-box\; background-color: transparent\; text-decoration-line: none\; color: rgb(43\, 82\, 160)\; border-bottom: 1px solid rgb(0\, 92\, 169)\; transition: color 0.2s\;">scalesandtailsutah.com</a></div>\n\n<div style="box-sizing: border-box\; color: rgb(20\, 24\, 39)\; font-family: &quot\;Helvetica Neue&quot\;\, Helvetica\, -apple-system\, BlinkMacSystemFont\, Roboto\, Arial\, sans-serif\; font-size: 16px\; text-align: center\;"><br style="box-sizing: border-box\;" />\n<em style="box-sizing: border-box\;">This special event is included with general admission to the museum.</em></div>\n
LOCATION:Discovery Gateway Children's Museum
UID:e.2428.15895
SEQUENCE:3
DTSTAMP:20260424T123027Z
URL:https://business.slchamber.com/events/details/scales-tales-at-the-museum-15895
END:VEVENT

END:VCALENDAR
