BEGIN:VCALENDAR
VERSION:2.0
PRODID:-//ChamberMaster//Event Calendar 2.0//EN
METHOD:PUBLISH
X-PUBLISHED-TTL:P3D
REFRESH-INTERVAL:P3D
CALSCALE:GREGORIAN
BEGIN:VEVENT
DTSTART:20260511T150000Z
DTEND:20260511T183000Z
X-MICROSOFT-CDO-ALLDAYEVENT:FALSE
SUMMARY:Small Business Expo - Made in America
DESCRIPTION:Join us for Senator John Curtis' Small Business Expo - Made in America on Monday\, May 11 from 9:00 a.m. - 12:30 p.m. at Davis Technical College in Kaysville\, Utah. This free event is designed to connect small businesses\, manufacturers\, and entrepreneurs with federal agencies\, industry leaders\, and new opportunities for growth.\n\n\n\nThrough networking\, expert speakers\, and practical conversations on manufacturing\, trade\, innovation\, and federal small business programs\, attendees will leave with valuable insights\, meaningful connections\, and resources to help move their business forward.\n\n\n\nWe are currently taking vendor applications. If your business is interested\, please fill out the Vendor Booth Application on Eventbrite. We will notify you regarding the status of your application and provide further details if you are approved.\n\n\n\nRegister today to attend this free event and be part of the conversation where small businesses and federal agencies meet.
X-ALT-DESC;FMTTYPE=text/html:<br />\nJoin us for Senator John Curtis&#39\; Small Business Expo - Made in America on Monday\, May 11 from 9:00 a.m. - 12:30 p.m. at Davis Technical College in Kaysville\, Utah. This free event is designed to connect small businesses\, manufacturers\, and entrepreneurs with federal agencies\, industry leaders\, and new opportunities for growth.<br />\n<br />\nThrough networking\, expert speakers\, and practical conversations on manufacturing\, trade\, innovation\, and federal small business programs\, attendees will leave with valuable insights\, meaningful connections\, and resources to help move their business forward.<br />\n<br />\nWe are currently taking vendor applications. If your business is interested\, please fill out the <a href="https://www.eventbrite.com/e/small-business-expo-made-in-america-tickets-1986568706478">Vendor Booth Application</a> on Eventbrite. We will notify you regarding the status of your application and provide further details if you are approved.<br />\n<br />\nRegister today to attend this free event and be part of the conversation where small businesses and federal agencies meet.
LOCATION:Davis Technical College 435 Simmons Way Kaysville\, UT 84037
UID:e.2428.16110
SEQUENCE:3
DTSTAMP:20260422T174747Z
URL:https://business.slchamber.com/events/details/small-business-expo-made-in-america-16110
END:VEVENT

END:VCALENDAR
