BEGIN:VCALENDAR
VERSION:2.0
PRODID:-//ChamberMaster//Event Calendar 2.0//EN
METHOD:PUBLISH
X-PUBLISHED-TTL:P3D
REFRESH-INTERVAL:P3D
CALSCALE:GREGORIAN
BEGIN:VEVENT
DTSTART:20141112T190000Z
DTEND:20141113T043000Z
X-MICROSOFT-CDO-ALLDAYEVENT:FALSE
SUMMARY:Tanner Forum On Social Ethics
DESCRIPTION:As part of the 2014 Tanner Forum On Social Ethics\, Cheryl Strayed\, author of the New York Times bestseller "Wild\," will give a 45-minute keynote presentation at noon and then again at 7 p.m.\, each time followed by an audience Q & A. She will also sign copies of her book from 8:30-9:30 p.m. All three events take place in the Grand Theatre at Salt Lake Community College's South City Campus\, 1575 South State Street\, Salt Lake City.
X-ALT-DESC;FMTTYPE=text/html:As part of the 2014 Tanner Forum On Social Ethics\, Cheryl Strayed\, author of the New York Times bestseller "Wild\," will give a 45-minute keynote presentation at noon and then again at 7 p.m.\, each time followed by an audience Q & A. She will also sign copies of her book from 8:30-9:30 p.m. All three events take place in the Grand Theatre at Salt Lake Community College's South City Campus\, 1575 South State Street\, Salt Lake City. 
LOCATION:1575 South State Street (The Grand Theatre at Salt Lake City's South City Campus) Salt Lake City\, UT 84115
UID:e.2428.4611
SEQUENCE:3
DTSTAMP:20260424T170003Z
URL:https://business.slchamber.com/events/details/tanner-forum-on-social-ethics-11-12-2014-4611
END:VEVENT

END:VCALENDAR
