BEGIN:VCALENDAR
VERSION:2.0
PRODID:-//ChamberMaster//Event Calendar 2.0//EN
METHOD:PUBLISH
X-PUBLISHED-TTL:P3D
REFRESH-INTERVAL:P3D
CALSCALE:GREGORIAN
BEGIN:VEVENT
DTSTART:20251104T160000Z
DTEND:20251104T190000Z
X-MICROSOFT-CDO-ALLDAYEVENT:FALSE
SUMMARY:Utah SBDC's Ca$h Flow is King Workshop Series
DESCRIPTION:9 hours of critical content and tantalizing training for your brilliant business.\n\n\n\nNovember 4th:   Financial Statements\n\nNovember 11th: Managing Cash Flow \n\nNovember 18th: Projecting Cash Flow. \n\n\n\nIn Financial Statements\, you gain a knowledge of how to read your financial statements. What are they actually telling you? ...Much more than you know!\n\n\n\nIn Managing Cash Flow\, you learn short-term cash management tips and techniques. Tricks of the trade to increase cash and decrease stress!\n\n\n\nIn Projecting Cash Flow\, you will receive cash projection tools and learn how to build and manage your short and long-term cash projections. Where are you going and how will you get there? (BRING A LAPTOP TO THIS SESSION).\n\n\n\nDid you know that the Number One reason businesses fail is that they run out of money (even when profitable)? Come learn what most small business owners do not know about CASH.\n\n\n\nBy attending and participating\, you will get the tools and knowledge to help you avoid the ruin of your company:\n\n\n	Learn to understand your numbers simply.\n	Prevent problems before they are problems.\n	Understand how and when to grow.\n	Increase potential for more cash\, play\, sleep\, and less stress.\n\n\nInvestment: $89 for all 3 sessions.\n\n\n\nSchedule on Each Day of Event:\n\n8:30 am:   Check-in\, Registration (light refreshments will be provided)\n\n9:00 am:   Cash Flow is King Workshop\n\n12:00 pm: End of Workshop for that day\n\n\n\nRegister here!
X-ALT-DESC;FMTTYPE=text/html:<p><span style="font-family:arial\,helvetica\,sans-serif"><strong><span style="background-color:rgb(255\, 255\, 255)\; color:rgb(119\, 119\, 119)\; font-size:16px">9 hours of critical content and tantalizing training for your brilliant business.</span></strong><br />\n<br />\n<span style="font-size:14px"><span style="background-color:rgb(255\, 255\, 255)\; color:rgb(119\, 119\, 119)">November 4th:&nbsp\; &nbsp\;Financial Statements<br />\nNovember 11th: Managing Cash Flow&nbsp\;<br />\nNovember 18th: Projecting Cash Flow.&nbsp\;<br />\n<br />\n<strong>In Financial Statements\,</strong> you gain a knowledge of how to read your financial statements. What are they actually telling you? ...Much more than you know!<br />\n<br />\n<strong>In Managing Cash Flow\,</strong> you learn short-term cash management tips and techniques. Tricks of the trade to increase cash and decrease stress!<br />\n<br />\n<strong>In Projecting Cash Flow\,</strong> you will receive cash projection tools and learn how to build and manage your short and long-term cash projections. Where are you going and how will you get there? (BRING A LAPTOP TO THIS SESSION).<br />\n<br />\nDid you know that the Number One reason businesses fail is that they run out of money (even when profitable)? Come learn what most small business owners do not know about CASH.<br />\n<br />\nBy attending and participating\, you will get the tools and knowledge to help you avoid the ruin of your company:</span></span></span></p>\n\n<ul>\n	<li><span style="font-family:arial\,helvetica\,sans-serif">Learn to understand your numbers simply.</span></li>\n	<li><span style="font-family:arial\,helvetica\,sans-serif"><span style="font-size:14px"><span style="background-color:rgb(255\, 255\, 255)\; color:rgb(119\, 119\, 119)">Prevent problems before they are problems.</span></span></span></li>\n	<li><span style="font-family:arial\,helvetica\,sans-serif"><span style="font-size:14px"><span style="background-color:rgb(255\, 255\, 255)\; color:rgb(119\, 119\, 119)">Understand how and when to grow.</span></span></span></li>\n	<li><span style="font-family:arial\,helvetica\,sans-serif"><span style="font-size:14px"><span style="background-color:rgb(255\, 255\, 255)\; color:rgb(119\, 119\, 119)">Increase potential for more cash\, play\, sleep\, and less stress.</span></span></span></li>\n</ul>\n\n<p><span style="font-family:arial\,helvetica\,sans-serif"><span style="background-color:rgb(255\, 255\, 255)\; color:rgb(119\, 119\, 119)\; font-size:16px"><strong>Investment:</strong> <span style="font-size:14px">$89 for all 3 sessions.</span></span></span><br />\n<br />\n<span style="font-size:14px"><span style="background-color:rgb(255\, 255\, 255)\; color:rgb(119\, 119\, 119)"><span style="font-size:16px"><strong>Schedule on Each Day of Event:</strong></span><br />\n8:30 am:&nbsp\; &nbsp\;Check-in\, Registration (light refreshments will be provided)<br />\n9:00 am:&nbsp\; &nbsp\;Cash Flow is King Workshop<br />\n12:00 pm: End of Workshop for that day</span></span><br />\n<br />\n<a href="https://epay.slcc.edu:443/C20011_ustores/web/product_detail.jsp?PRODUCTID=3205&amp\;SINGLESTORE=true"><span style="font-family:arial\,helvetica\,sans-serif"><strong>Register here!</strong></span></a></p>\n
LOCATION:In Person: The Mill Salt Lake Small Business Development Center Salt Lake Community College Larry H. Miller Campus 9690 South 300 West Miller Corporate Partnership Center (MCPC) Building #5\, First Floor\, Room 101 Sandy\, UT 84070
UID:e.2428.15832
SEQUENCE:3
DTSTAMP:20260424T122935Z
URL:https://business.slchamber.com/events/details/utah-sbdc-s-ca-h-flow-is-king-workshop-series-11-04-2025-15832
END:VEVENT

END:VCALENDAR
