BEGIN:VCALENDAR
VERSION:2.0
PRODID:-//ChamberMaster//Event Calendar 2.0//EN
METHOD:PUBLISH
X-PUBLISHED-TTL:P3D
REFRESH-INTERVAL:P3D
CALSCALE:GREGORIAN
BEGIN:VEVENT
DTSTART:20260414T160000Z
DTEND:20260414T200000Z
X-MICROSOFT-CDO-ALLDAYEVENT:FALSE
SUMMARY:Wasatch Front Work Ability Career Preparation and Job Fair
DESCRIPTION:Employer Registration\n						\n					\n				\n			\n			\n		\n		\n			\n			\n				\n					\n						\n						EMPLOYER REGISTRATION - \n\n						Work Ability Career Exploration and Job Fair\n\n						 April 14\, 2026\n\n						10:00 AM - 2:00 PM \n\n						Robert G. Sanderson Community Center of the Deaf and Hard of Hearing\n\n						5709 S. 1500 W. Salt Lake City\n						 \n\n						Lunch for registered employers sponsored by Disability:IN Utah \n						 \n\n						https://tinyurl.com/2hry8dmc\n						\n					\n				\n			\n			\n		\n	\n\n \n\n\n	\n		\n			\n			\n				\n					\n						\n						Job Seeker Registration\n						\n					\n				\n			\n			\n		\n		\n			\n			\n				\n					\n						\n						JOB SEEKER REGISTRATION - \n\n						Work Ability Career Exploration and Job Fair\n\n						 April 14\, 2026\n\n						10:00 AM - 2:00 PM \n\n						Robert G. Sanderson Community Center of the Deaf and Hard of Hearing\n\n						5709 S. 1500 W. Salt Lake City\n\n						Various workshops available on the day of the event.  Come professionally dressed and ready with your questions for the registered business partners.  Those that register will receive a list of registered businesses prior to the event. \n						 \n\n						https://tinyurl.com/yeyv49y9
X-ALT-DESC;FMTTYPE=text/html:<table style="color: rgb(34\, 34\, 34)\; font-family: Arial\, Helvetica\, sans-serif\; font-size: small\; vertical-align: top\; display: inline-table\; border-collapse: collapse\; border-spacing: 0px\;" width="50%">\n	<tbody>\n		<tr>\n			<td style="margin: 0px\; padding-left: 9px\; padding-right: 9px\;" width="100%">\n			<table cellpadding="7px" style="border-collapse: collapse\; border-spacing: 0px\;" width="100%">\n				<tbody>\n					<tr>\n						<td align="center" style="margin: 0px\; word-break: break-word\;" width="100%">\n						<h2 dir="ltr" id="m_-1334026361069642542m_-3078524191815795252gmail-h.1jog8tjrejg8_l" style="margin: 0px 0pt\; padding-top: 0px\; padding-bottom: 0px\; font-size: 18pt\; font-family: Tahoma\; font-weight: 700\; font-variant-numeric: normal\; font-variant-east-asian: normal\; font-variant-alternates: normal\; font-variant-position: normal\; font-variant-emoji: normal\; vertical-align: baseline\; padding-left: 0pt\; text-indent: 0pt\; color: rgb(28\, 28\, 28)\; outline: none\;"><a data-saferedirecturl="https://www.google.com/url?q=https://linkprotect.cudasvc.com/url?a%3Dhttps%253a%252f%252ftinyurl.com%252f2hry8dmc%26c%3DE\,1\,iPmo_zaoZSBH0UNtHFcXPa9whd_OeZ0yN0JjBV4YeSpVGBCktOICQeD0PrCDrbyOm8cxpikrN9f1yR3HDYDGMMEmUfyqkknYyZL4L-Cus5L2bndw1MU9EmTjk2TZ%26typo%3D1&amp\;source=gmail&amp\;ust=1768317949723000&amp\;usg=AOvVaw3-iBfx3cQeXO0L0l1hNks5" href="https://linkprotect.cudasvc.com/url?a=https%3a%2f%2ftinyurl.com%2f2hry8dmc&amp\;c=E\,1\,iPmo_zaoZSBH0UNtHFcXPa9whd_OeZ0yN0JjBV4YeSpVGBCktOICQeD0PrCDrbyOm8cxpikrN9f1yR3HDYDGMMEmUfyqkknYyZL4L-Cus5L2bndw1MU9EmTjk2TZ&amp\;typo=1" style="color: inherit\; text-decoration-line: none\;" target="_blank"><span style="text-decoration-line: underline\;">Employer Registration</span></a></h2>\n						</td>\n					</tr>\n				</tbody>\n			</table>\n			</td>\n		</tr>\n		<tr>\n			<td style="margin: 0px\; padding-left: 9px\; padding-right: 9px\;" width="100%">\n			<table cellpadding="7px" style="border-collapse: collapse\; border-spacing: 0px\;" width="100%">\n				<tbody>\n					<tr>\n						<td align="center" style="margin: 0px\; word-break: break-word\;" width="100%">\n						<p dir="ltr" style="margin: 0px 0pt 0pt\; padding-top: 0px\; font-family: Tahoma\; font-variant-numeric: normal\; font-variant-east-asian: normal\; font-variant-alternates: normal\; font-variant-position: normal\; font-variant-emoji: normal\; vertical-align: baseline\; line-height: 1.2\; padding-left: 0pt\; text-indent: 0pt\; font-size: 12pt\; color: rgb(28\, 28\, 28)\; outline: none\;"><span style="font-variant-numeric: normal\; font-variant-east-asian: normal\; font-variant-alternates: normal\; font-variant-position: normal\; font-variant-emoji: normal\;">EMPLOYER REGISTRATION -&nbsp\;</span></p>\n\n						<p dir="ltr" style="font-family: Tahoma\; font-variant-numeric: normal\; font-variant-east-asian: normal\; font-variant-alternates: normal\; font-variant-position: normal\; font-variant-emoji: normal\; vertical-align: baseline\; line-height: 1.2\; margin: 6pt 0pt 0pt\; padding-left: 0pt\; text-indent: 0pt\; font-size: 12pt\; color: rgb(28\, 28\, 28)\; outline: none\;"><span style="font-variant-numeric: normal\; font-variant-east-asian: normal\; font-variant-alternates: normal\; font-variant-position: normal\; font-variant-emoji: normal\;">Work Ability Career Exploration and Job Fair</span></p>\n\n						<p dir="ltr" style="font-family: Tahoma\; font-variant-numeric: normal\; font-variant-east-asian: normal\; font-variant-alternates: normal\; font-variant-position: normal\; font-variant-emoji: normal\; vertical-align: baseline\; line-height: 1.2\; margin: 6pt 0pt 0pt\; padding-left: 0pt\; text-indent: 0pt\; font-size: 12pt\; color: rgb(28\, 28\, 28)\; outline: none\;"><span style="font-variant-numeric: normal\; font-variant-east-asian: normal\; font-variant-alternates: normal\; font-variant-position: normal\; font-variant-emoji: normal\;">&nbsp\;</span>April 14<span style="font-variant-numeric: normal\; font-variant-east-asian: normal\; font-variant-alternates: normal\; font-variant-position: normal\; font-variant-emoji: normal\;">\, 2026</span></p>\n\n						<p dir="ltr" style="font-family: Tahoma\; font-variant-numeric: normal\; font-variant-east-asian: normal\; font-variant-alternates: normal\; font-variant-position: normal\; font-variant-emoji: normal\; vertical-align: baseline\; line-height: 1.2\; margin: 6pt 0pt 0pt\; padding-left: 0pt\; text-indent: 0pt\; font-size: 12pt\; color: rgb(28\, 28\, 28)\; outline: none\;">10:00<span style="font-variant-numeric: normal\; font-variant-east-asian: normal\; font-variant-alternates: normal\; font-variant-position: normal\; font-variant-emoji: normal\;">&nbsp\;AM -&nbsp\;</span>2<span style="font-variant-numeric: normal\; font-variant-east-asian: normal\; font-variant-alternates: normal\; font-variant-position: normal\; font-variant-emoji: normal\;">:00 PM&nbsp\;</span></p>\n\n						<p dir="ltr" style="font-family: Tahoma\; font-variant-numeric: normal\; font-variant-east-asian: normal\; font-variant-alternates: normal\; font-variant-position: normal\; font-variant-emoji: normal\; vertical-align: baseline\; line-height: 1.2\; margin: 6pt 0pt 0pt\; padding-left: 0pt\; text-indent: 0pt\; font-size: 12pt\; color: rgb(28\, 28\, 28)\; outline: none\;"><span style="font-variant-numeric: normal\; font-variant-east-asian: normal\; font-variant-alternates: normal\; font-variant-position: normal\; font-variant-emoji: normal\;">Robert G. Sanderson Community Center of the Deaf and Hard of Hearing</span></p>\n\n						<p dir="ltr" style="font-family: Tahoma\; font-variant-numeric: normal\; font-variant-east-asian: normal\; font-variant-alternates: normal\; font-variant-position: normal\; font-variant-emoji: normal\; vertical-align: baseline\; line-height: 1.2\; margin: 6pt 0pt 0pt\; padding-left: 0pt\; text-indent: 0pt\; font-size: 12pt\; color: rgb(28\, 28\, 28)\; outline: none\;"><span style="font-variant-numeric: normal\; font-variant-east-asian: normal\; font-variant-alternates: normal\; font-variant-position: normal\; font-variant-emoji: normal\;">5709 S. 1500 W. Salt Lake City</span></p>\n						&nbsp\;\n\n						<p dir="ltr" style="font-family: Tahoma\; font-variant-numeric: normal\; font-variant-east-asian: normal\; font-variant-alternates: normal\; font-variant-position: normal\; font-variant-emoji: normal\; vertical-align: baseline\; line-height: 1.2\; margin: 6pt 0pt 0pt\; padding-left: 0pt\; text-indent: 0pt\; font-size: 12pt\; color: rgb(28\, 28\, 28)\; outline: none\;"><span style="font-variant-numeric: normal\; font-variant-east-asian: normal\; font-variant-alternates: normal\; font-variant-position: normal\; font-variant-emoji: normal\;">Lunch for registered employers sponsored by&nbsp\;</span><a data-saferedirecturl="https://www.google.com/url?q=https://linkprotect.cudasvc.com/url?a%3Dhttps%253a%252f%252fwww.disabilityinutah.org%252f%26c%3DE\,1\,mbKCnLf1ahFcwSG9LEQPGg2PZ0CUR3rXnUu1lFBS5zYqlcidqjItF6-SxpZUzINXoAo3skbiaD9xB1JoY1_gurokdiru4x-t1c5FiVhPBndAZaM\,%26typo%3D1&amp\;source=gmail&amp\;ust=1768317949723000&amp\;usg=AOvVaw3bR3DX972kD-8ItOdJPklV" href="https://linkprotect.cudasvc.com/url?a=https%3a%2f%2fwww.disabilityinutah.org%2f&amp\;c=E\,1\,mbKCnLf1ahFcwSG9LEQPGg2PZ0CUR3rXnUu1lFBS5zYqlcidqjItF6-SxpZUzINXoAo3skbiaD9xB1JoY1_gurokdiru4x-t1c5FiVhPBndAZaM\,&amp\;typo=1" style="color: inherit\; text-decoration-line: none\;" target="_blank"><span style="font-variant-numeric: normal\; font-variant-east-asian: normal\; font-variant-alternates: normal\; font-variant-position: normal\; font-variant-emoji: normal\; text-decoration-line: underline\;">Disability:IN Utah</span></a><span style="font-variant-numeric: normal\; font-variant-east-asian: normal\; font-variant-alternates: normal\; font-variant-position: normal\; font-variant-emoji: normal\;">&nbsp\;</span></p>\n						&nbsp\;\n\n						<p dir="ltr" style="margin: 6pt 0pt 0px\; padding-bottom: 0px\; font-family: Tahoma\; font-variant-numeric: normal\; font-variant-east-asian: normal\; font-variant-alternates: normal\; font-variant-position: normal\; font-variant-emoji: normal\; vertical-align: baseline\; line-height: 1.2\; padding-left: 0pt\; text-indent: 0pt\; font-size: 12pt\; color: rgb(28\, 28\, 28)\; outline: none\;"><a data-saferedirecturl="https://www.google.com/url?q=https://linkprotect.cudasvc.com/url?a%3Dhttps%253a%252f%252ftinyurl.com%252f2hry8dmc%26c%3DE\,1\,71ajPa1Z-hOSiLFD-Zx5uAeYG6FnoLf7nwp1kqff-vjP0yI5EO66modBGTu8hwW4d3a0HbIoIG7t0c6DPaekmUB1xB4OSMjwHcHHfZ-2MAEhYee7uA\,\,%26typo%3D1&amp\;source=gmail&amp\;ust=1768317949723000&amp\;usg=AOvVaw3H5hIXMiJKVF5Rbsy79qX6" href="https://linkprotect.cudasvc.com/url?a=https%3a%2f%2ftinyurl.com%2f2hry8dmc&amp\;c=E\,1\,71ajPa1Z-hOSiLFD-Zx5uAeYG6FnoLf7nwp1kqff-vjP0yI5EO66modBGTu8hwW4d3a0HbIoIG7t0c6DPaekmUB1xB4OSMjwHcHHfZ-2MAEhYee7uA\,\,&amp\;typo=1" style="color: inherit\; text-decoration-line: none\;" target="_blank"><span style="text-decoration-line: underline\;">https://tinyurl.com/2hry8dmc</span></a></p>\n						</td>\n					</tr>\n				</tbody>\n			</table>\n			</td>\n		</tr>\n	</tbody>\n</table>\n&nbsp\;\n\n<table style="color: rgb(34\, 34\, 34)\; font-family: Arial\, Helvetica\, sans-serif\; font-size: small\; vertical-align: top\; display: inline-table\; border-collapse: collapse\; border-spacing: 0px\;" width="50%">\n	<tbody>\n		<tr>\n			<td style="margin: 0px\; padding-left: 9px\; padding-right: 9px\;" width="100%">\n			<table cellpadding="7px" style="border-collapse: collapse\; border-spacing: 0px\;" width="100%">\n				<tbody>\n					<tr>\n						<td align="center" style="margin: 0px\; word-break: break-word\;" width="100%">\n						<h2 dir="ltr" id="m_-1334026361069642542m_-3078524191815795252gmail-h.98ppbm87roei_l" style="margin: 0px 0pt\; padding-top: 0px\; padding-bottom: 0px\; font-size: 18pt\; font-family: Tahoma\; font-weight: 700\; font-variant-numeric: normal\; font-variant-east-asian: normal\; font-variant-alternates: normal\; font-variant-position: normal\; font-variant-emoji: normal\; vertical-align: baseline\; padding-left: 0pt\; text-indent: 0pt\; color: rgb(28\, 28\, 28)\; outline: none\;">Job Seeker Registration</h2>\n						</td>\n					</tr>\n				</tbody>\n			</table>\n			</td>\n		</tr>\n		<tr>\n			<td style="margin: 0px\; padding-left: 9px\; padding-right: 9px\;" width="100%">\n			<table cellpadding="7px" style="border-collapse: collapse\; border-spacing: 0px\;" width="100%">\n				<tbody>\n					<tr>\n						<td align="center" style="margin: 0px\; word-break: break-word\;" width="100%">\n						<p dir="ltr" style="margin: 0px 0pt 0pt\; padding-top: 0px\; font-family: Tahoma\; font-variant-numeric: normal\; font-variant-east-asian: normal\; font-variant-alternates: normal\; font-variant-position: normal\; font-variant-emoji: normal\; vertical-align: baseline\; line-height: 1.2\; padding-left: 0pt\; text-indent: 0pt\; font-size: 12pt\; color: rgb(28\, 28\, 28)\; outline: none\;">JOB SEEKER<span style="font-variant-numeric: normal\; font-variant-east-asian: normal\; font-variant-alternates: normal\; font-variant-position: normal\; font-variant-emoji: normal\;">&nbsp\;REGISTRATION -&nbsp\;</span></p>\n\n						<p dir="ltr" style="font-family: Tahoma\; font-variant-numeric: normal\; font-variant-east-asian: normal\; font-variant-alternates: normal\; font-variant-position: normal\; font-variant-emoji: normal\; vertical-align: baseline\; line-height: 1.2\; margin: 6pt 0pt 0pt\; padding-left: 0pt\; text-indent: 0pt\; font-size: 12pt\; color: rgb(28\, 28\, 28)\; outline: none\;"><span style="font-variant-numeric: normal\; font-variant-east-asian: normal\; font-variant-alternates: normal\; font-variant-position: normal\; font-variant-emoji: normal\;">Work Ability Career Exploration and Job Fair</span></p>\n\n						<p dir="ltr" style="font-family: Tahoma\; font-variant-numeric: normal\; font-variant-east-asian: normal\; font-variant-alternates: normal\; font-variant-position: normal\; font-variant-emoji: normal\; vertical-align: baseline\; line-height: 1.2\; margin: 6pt 0pt 0pt\; padding-left: 0pt\; text-indent: 0pt\; font-size: 12pt\; color: rgb(28\, 28\, 28)\; outline: none\;"><span style="font-variant-numeric: normal\; font-variant-east-asian: normal\; font-variant-alternates: normal\; font-variant-position: normal\; font-variant-emoji: normal\;">&nbsp\;April 14\, 2026</span></p>\n\n						<p dir="ltr" style="font-family: Tahoma\; font-variant-numeric: normal\; font-variant-east-asian: normal\; font-variant-alternates: normal\; font-variant-position: normal\; font-variant-emoji: normal\; vertical-align: baseline\; line-height: 1.2\; margin: 6pt 0pt 0pt\; padding-left: 0pt\; text-indent: 0pt\; font-size: 12pt\; color: rgb(28\, 28\, 28)\; outline: none\;"><span style="font-variant-numeric: normal\; font-variant-east-asian: normal\; font-variant-alternates: normal\; font-variant-position: normal\; font-variant-emoji: normal\;">10:00 AM - 2:00 PM&nbsp\;</span></p>\n\n						<p dir="ltr" style="font-family: Tahoma\; font-variant-numeric: normal\; font-variant-east-asian: normal\; font-variant-alternates: normal\; font-variant-position: normal\; font-variant-emoji: normal\; vertical-align: baseline\; line-height: 1.2\; margin: 6pt 0pt 0pt\; padding-left: 0pt\; text-indent: 0pt\; font-size: 12pt\; color: rgb(28\, 28\, 28)\; outline: none\;"><span style="font-variant-numeric: normal\; font-variant-east-asian: normal\; font-variant-alternates: normal\; font-variant-position: normal\; font-variant-emoji: normal\;">Robert G. Sanderson Community Center of the Deaf and Hard of Hearing</span></p>\n\n						<p dir="ltr" style="font-family: Tahoma\; font-variant-numeric: normal\; font-variant-east-asian: normal\; font-variant-alternates: normal\; font-variant-position: normal\; font-variant-emoji: normal\; vertical-align: baseline\; line-height: 1.2\; margin: 6pt 0pt 0pt\; padding-left: 0pt\; text-indent: 0pt\; font-size: 12pt\; color: rgb(28\, 28\, 28)\; outline: none\;"><span style="font-variant-numeric: normal\; font-variant-east-asian: normal\; font-variant-alternates: normal\; font-variant-position: normal\; font-variant-emoji: normal\;">5709 S. 1500 W. Salt Lake City</span></p>\n\n						<p dir="ltr" style="font-family: Tahoma\; font-variant-numeric: normal\; font-variant-east-asian: normal\; font-variant-alternates: normal\; font-variant-position: normal\; font-variant-emoji: normal\; vertical-align: baseline\; line-height: 1.2\; margin: 6pt 0pt 0pt\; padding-left: 0pt\; text-indent: 0pt\; font-size: 12pt\; color: rgb(28\, 28\, 28)\; outline: none\;">Various workshops available on the day of the event.&nbsp\; Come professionally dressed and ready with your questions for the registered business partners.&nbsp\; Those that register will receive a list of registered businesses prior to the event.&nbsp\;</p>\n						&nbsp\;\n\n						<p dir="ltr" style="margin: 6pt 0pt 0px\; padding-bottom: 0px\; font-family: Tahoma\; font-variant-numeric: normal\; font-variant-east-asian: normal\; font-variant-alternates: normal\; font-variant-position: normal\; font-variant-emoji: normal\; vertical-align: baseline\; line-height: 1.2\; padding-left: 0pt\; text-indent: 0pt\; font-size: 12pt\; color: rgb(28\, 28\, 28)\; outline: none\;"><a data-saferedirecturl="https://www.google.com/url?q=https://linkprotect.cudasvc.com/url?a%3Dhttps%253a%252f%252ftinyurl.com%252fyeyv49y9%26c%3DE\,1\,cqDaidpmv8_gJct9QnELlLyC-qqbZlJcciTJxMOWJ5vBIU_RiiAR75whfRPhCeD23pesv10gETZ41AJK3ct3OOZ2EtLF82_JN3YVEuF64Me9K38KvfA\,%26typo%3D1&amp\;source=gmail&amp\;ust=1768317949724000&amp\;usg=AOvVaw0NB2dQ2FJn2doxB9hb4WEi" href="https://linkprotect.cudasvc.com/url?a=https%3a%2f%2ftinyurl.com%2fyeyv49y9&amp\;c=E\,1\,cqDaidpmv8_gJct9QnELlLyC-qqbZlJcciTJxMOWJ5vBIU_RiiAR75whfRPhCeD23pesv10gETZ41AJK3ct3OOZ2EtLF82_JN3YVEuF64Me9K38KvfA\,&amp\;typo=1" style="color: inherit\; text-decoration-line: none\;" target="_blank"><span style="text-decoration-line: underline\;">https://tinyurl.com/yeyv49y9</span></a>&nbsp\;</p>\n						</td>\n					</tr>\n				</tbody>\n			</table>\n			</td>\n		</tr>\n	</tbody>\n</table>\n
LOCATION:Robert G. Sanderson Community Center of the Deaf and Hard of Hearing - 5709 S. 1500 W. Salt Lake City\, UT
UID:e.2428.15983
SEQUENCE:3
DTSTAMP:20260424T122935Z
URL:https://business.slchamber.com/events/details/wasatch-front-work-ability-career-preparation-and-job-fair-15983
END:VEVENT

END:VCALENDAR
