BEGIN:VCALENDAR
VERSION:2.0
PRODID:-//ChamberMaster//Event Calendar 2.0//EN
METHOD:PUBLISH
X-PUBLISHED-TTL:P3D
REFRESH-INTERVAL:P3D
CALSCALE:GREGORIAN
BEGIN:VEVENT
DTSTART:20260402T180000Z
DTEND:20260402T180000Z
X-MICROSOFT-CDO-ALLDAYEVENT:FALSE
SUMMARY:WORKBOX QUARTERLY MIXER
DESCRIPTION:Workbox is opening its doors for a lively open-house mixer!\n\n\n\nWe're bringing our community together to mix\, mingle\, and make memories with fellow members\, founders\, and professionals from across the city. Whether you're looking to network\, bond with your team\, or just have a great time - we've got you covered.\n\n\n\nBring your whole team with you and...\n\n\n\nConnect with Workbox members and staff\n\n\n\nEnjoy great food and lively music\n\n\n\nBuild new relationships and catch up with familiar faces\n\n\n\nDate: Thursday\, April 2nd\n\nTime: 4:30PM - 7PM\n\nLocation: Workbox Common Space & Main Caf \n\n\n\nSpace is limited. Scan this QR code to RSVP and save your spot early!
X-ALT-DESC;FMTTYPE=text/html:Workbox is opening its doors for a lively open-house mixer!<br />\n<br />\nWe&#39\;re bringing our community together to mix\, mingle\, and make memories with fellow members\, founders\, and professionals from across the city. Whether you&#39\;re looking to network\, bond with your team\, or just have a great time - we&#39\;ve got you covered.<br />\n<br />\nBring your whole team with you and...<br />\n<br />\nConnect with Workbox members and staff<br />\n<br />\nEnjoy great food and lively music<br />\n<br />\nBuild new relationships and catch up with familiar faces<br />\n<br />\nDate: Thursday\, April 2nd<br />\nTime: 4:30PM - 7PM<br />\nLocation: Workbox Common Space &amp\; Main Caf&eacute\;<br />\n<br />\nSpace is limited. Scan this QR code to RSVP and save your spot early!
LOCATION:132 S State Street\, Salt Lake City\, UT 84111
UID:e.2428.16051
SEQUENCE:3
DTSTAMP:20260422T083522Z
URL:https://business.slchamber.com/events/details/workbox-quarterly-mixer-04-02-2026-16051
END:VEVENT

END:VCALENDAR
